BEGIN:VCALENDAR
VERSION:2.0
PRODID:-//Washington County Guide - ECPv6.15.17.1//NONSGML v1.0//EN
CALSCALE:GREGORIAN
METHOD:PUBLISH
X-ORIGINAL-URL:https://washingtoncounty.guide
X-WR-CALDESC:Events for Washington County Guide
REFRESH-INTERVAL;VALUE=DURATION:PT1H
X-Robots-Tag:noindex
X-PUBLISHED-TTL:PT1H
BEGIN:VTIMEZONE
TZID:America/Chicago
BEGIN:DAYLIGHT
TZOFFSETFROM:-0600
TZOFFSETTO:-0500
TZNAME:CDT
DTSTART:20250309T080000
END:DAYLIGHT
BEGIN:STANDARD
TZOFFSETFROM:-0500
TZOFFSETTO:-0600
TZNAME:CST
DTSTART:20251102T070000
END:STANDARD
BEGIN:DAYLIGHT
TZOFFSETFROM:-0600
TZOFFSETTO:-0500
TZNAME:CDT
DTSTART:20260308T080000
END:DAYLIGHT
BEGIN:STANDARD
TZOFFSETFROM:-0500
TZOFFSETTO:-0600
TZNAME:CST
DTSTART:20261101T070000
END:STANDARD
BEGIN:DAYLIGHT
TZOFFSETFROM:-0600
TZOFFSETTO:-0500
TZNAME:CDT
DTSTART:20270314T080000
END:DAYLIGHT
BEGIN:STANDARD
TZOFFSETFROM:-0500
TZOFFSETTO:-0600
TZNAME:CST
DTSTART:20271107T070000
END:STANDARD
END:VTIMEZONE
BEGIN:VEVENT
DTSTART;TZID=America/Chicago:20260405T100000
DTEND;TZID=America/Chicago:20260405T130000
DTSTAMP:20260423T185247
CREATED:20260330T061101Z
LAST-MODIFIED:20260330T061101Z
UID:10013414-1775383200-1775394000@washingtoncounty.guide
SUMMARY:Easter Brunch Buffet
DESCRIPTION:You all have been asking where the buffet has been\, and here it is!Easter brunch buffet from 10-1pmEaster hours of operation 10-1pm\n\nUp and coming dates:4/19 third Sunday of the month5/10 Mother’s Day5/17 third Sunday of the month
URL:https://washingtoncounty.guide/event/easter-brunch-buffet/2026-04-05/
LOCATION:Fyre Lake Winery & Event Center\, 12902 State Hwy 47\, Cadet\, MO\, 63630\, United States
CATEGORIES:Food
ORGANIZER;CN="Fyre Lake Winery & Event Center":MAILTO:https://www.fyrelakewinery.com/contact
GEO:37.9939915;-90.7135471
X-APPLE-STRUCTURED-LOCATION;VALUE=URI;X-ADDRESS=Fyre Lake Winery & Event Center 12902 State Hwy 47 Cadet MO 63630 United States;X-APPLE-RADIUS=500;X-TITLE=12902 State Hwy 47:geo:-90.7135471,37.9939915
END:VEVENT
END:VCALENDAR