BEGIN:VCALENDAR
VERSION:2.0
PRODID:-//Washington County Guide - ECPv6.15.17.1//NONSGML v1.0//EN
CALSCALE:GREGORIAN
METHOD:PUBLISH
X-ORIGINAL-URL:https://washingtoncounty.guide
X-WR-CALDESC:Events for Washington County Guide
REFRESH-INTERVAL;VALUE=DURATION:PT1H
X-Robots-Tag:noindex
X-PUBLISHED-TTL:PT1H
BEGIN:VTIMEZONE
TZID:America/Chicago
BEGIN:DAYLIGHT
TZOFFSETFROM:-0600
TZOFFSETTO:-0500
TZNAME:CDT
DTSTART:20250309T080000
END:DAYLIGHT
BEGIN:STANDARD
TZOFFSETFROM:-0500
TZOFFSETTO:-0600
TZNAME:CST
DTSTART:20251102T070000
END:STANDARD
BEGIN:DAYLIGHT
TZOFFSETFROM:-0600
TZOFFSETTO:-0500
TZNAME:CDT
DTSTART:20260308T080000
END:DAYLIGHT
BEGIN:STANDARD
TZOFFSETFROM:-0500
TZOFFSETTO:-0600
TZNAME:CST
DTSTART:20261101T070000
END:STANDARD
BEGIN:DAYLIGHT
TZOFFSETFROM:-0600
TZOFFSETTO:-0500
TZNAME:CDT
DTSTART:20270314T080000
END:DAYLIGHT
BEGIN:STANDARD
TZOFFSETFROM:-0500
TZOFFSETTO:-0600
TZNAME:CST
DTSTART:20271107T070000
END:STANDARD
END:VTIMEZONE
BEGIN:VEVENT
DTSTART;TZID=America/Chicago:20260414T090000
DTEND;TZID=America/Chicago:20260414T120000
DTSTAMP:20260423T164858
CREATED:20230203T025749Z
LAST-MODIFIED:20260123T155512Z
UID:10003072-1776157200-1776168000@washingtoncounty.guide
SUMMARY:Life Church Food Pantry
DESCRIPTION:Call for more info
URL:https://washingtoncounty.guide/event/life-church-food-pantry/2026-04-14/
LOCATION:MO
CATEGORIES:Church Related,Food
END:VEVENT
BEGIN:VEVENT
DTSTART;TZID=America/Chicago:20260414T100000
DTEND;TZID=America/Chicago:20260414T120000
DTSTAMP:20260423T164858
CREATED:20231016T141635Z
LAST-MODIFIED:20260123T155959Z
UID:10005672-1776160800-1776168000@washingtoncounty.guide
SUMMARY:TOPS Weight-Loss Group Meeting
DESCRIPTION:TOPS: Taking off pounds sensibly. TOPS is a non-commercial weight-loss group that focuses on realistic weight loss for real people. \nWeigh-Ins from 10 A.M. – 11 A.M. and meeting from 11 A.M. – Noon. \nFor more info\, call Jeanette Sexton at 314-808-5531
URL:https://washingtoncounty.guide/event/tops-weight-loss-group-meeting/2026-04-14/
LOCATION:Washington County Library\, 235 E. High St.\, Potosi\, MO\, 63664\, United States
CATEGORIES:Networking,Wellness
GEO:37.9342553;-90.7848932
X-APPLE-STRUCTURED-LOCATION;VALUE=URI;X-ADDRESS=Washington County Library 235 E. High St. Potosi MO 63664 United States;X-APPLE-RADIUS=500;X-TITLE=235 E. High St.:geo:-90.7848932,37.9342553
END:VEVENT
BEGIN:VEVENT
DTSTART;TZID=America/Chicago:20260414T130000
DTEND;TZID=America/Chicago:20260414T130000
DTSTAMP:20260423T164858
CREATED:20231103T195259Z
LAST-MODIFIED:20260123T155442Z
UID:10005858-1776171600-1776171600@washingtoncounty.guide
SUMMARY:City of Potosi Regular Meeting
DESCRIPTION:The City now holds their regular monthly meeting on the second Tuesday of each month. \n 
URL:https://washingtoncounty.guide/event/city-of-potosi-regular-meeting-2/2026-04-14/
LOCATION:City Hall\, 121 E High St\, Potosi\, MO\, 63664\, United States
CATEGORIES:Adults
GEO:37.9356476;-90.7871973
X-APPLE-STRUCTURED-LOCATION;VALUE=URI;X-ADDRESS=City Hall 121 E High St Potosi MO 63664 United States;X-APPLE-RADIUS=500;X-TITLE=121 E High St:geo:-90.7871973,37.9356476
END:VEVENT
BEGIN:VEVENT
DTSTART;TZID=America/Chicago:20260414T130000
DTEND;TZID=America/Chicago:20260414T140000
DTSTAMP:20260423T164858
CREATED:20250709T174606Z
LAST-MODIFIED:20260123T155930Z
UID:10011733-1776171600-1776175200@washingtoncounty.guide
SUMMARY:Snuggle - N - Snack
DESCRIPTION:
URL:https://washingtoncounty.guide/event/snuggle-n-snack-2/2026-04-14/
LOCATION:Washington County Health Department\, 520 Purcell Dr\, Potosi\, MO\, 63664\, United States
CATEGORIES:Food,Informational,Wellness,Women
GEO:37.9340395;-90.7782429
X-APPLE-STRUCTURED-LOCATION;VALUE=URI;X-ADDRESS=Washington County Health Department 520 Purcell Dr Potosi MO 63664 United States;X-APPLE-RADIUS=500;X-TITLE=520 Purcell Dr:geo:-90.7782429,37.9340395
END:VEVENT
BEGIN:VEVENT
DTSTART;TZID=America/Chicago:20260414T170000
DTEND;TZID=America/Chicago:20260414T180000
DTSTAMP:20260423T164858
CREATED:20230708T224016Z
LAST-MODIFIED:20260123T155903Z
UID:10004392-1776186000-1776189600@washingtoncounty.guide
SUMMARY:U-Turn Open Support Group
DESCRIPTION:This group is provided as a free service for the community by FBC Potosi. \nThis is an open support group for any and all struggles. Call 573-438-2389 to learn more. \nGroups will be facilitated on Tuesdays from 5-6 p.m. beginning July 25 \nLight snacks and coffee will be provided.
URL:https://washingtoncounty.guide/event/u-turn-open-support-group/2026-04-14/
LOCATION:First Baptist Church\, 10479 State Hwy P\, Potosi\, MO\, 63664\, United States
CATEGORIES:Wellness
GEO:37.9031245;-90.8038203
X-APPLE-STRUCTURED-LOCATION;VALUE=URI;X-ADDRESS=First Baptist Church 10479 State Hwy P Potosi MO 63664 United States;X-APPLE-RADIUS=500;X-TITLE=10479 State Hwy P:geo:-90.8038203,37.9031245
END:VEVENT
BEGIN:VEVENT
DTSTART;TZID=America/Chicago:20260414T173000
DTEND;TZID=America/Chicago:20260414T203000
DTSTAMP:20260423T164858
CREATED:20231110T194440Z
LAST-MODIFIED:20260123T155826Z
UID:10006033-1776187800-1776198600@washingtoncounty.guide
SUMMARY:HiSET (GED) Class
DESCRIPTION:For more information\, contact the organizer \nThe cancelled house times are: \n\nNov 20 – 24 for Thanksgiving break\nDecember 20- Jan 2 for Christmas and New Years break\nFeb 8 for a training\nMarch 25- April 1 for Spring Break\nMay 2 for a teachers meeting\nJune 6 is the last day of classes for the school year. Classes will resume July 11.
URL:https://washingtoncounty.guide/event/hiset-ged-class/2026-04-14/
LOCATION:Potosi R-III Admin Building\, 400 N. Mine St\, Potosi\, Missouri\, 63664
CATEGORIES:Adults
ORGANIZER;CN="NCSD AEL":MAILTO:potosihse@ncsd.k12.mo.us
GEO:37.9393663;-90.7864438
X-APPLE-STRUCTURED-LOCATION;VALUE=URI;X-ADDRESS=Potosi R-III Admin Building 400 N. Mine St Potosi Missouri 63664;X-APPLE-RADIUS=500;X-TITLE=400 N. Mine St:geo:-90.7864438,37.9393663
END:VEVENT
BEGIN:VEVENT
DTSTART;TZID=America/Chicago:20260414T180000
DTEND;TZID=America/Chicago:20260414T180000
DTSTAMP:20260423T164858
CREATED:20250207T195054Z
LAST-MODIFIED:20260123T155733Z
UID:10013266-1776189600-1776189600@washingtoncounty.guide
SUMMARY:Fit Camp
DESCRIPTION:Fit Camp\nTuesdays 6pm @\nLife Church \nBring non-perishable food item to donate to the food pantry \nBring a friend to be entered into a raffle \nFree samples
URL:https://washingtoncounty.guide/event/fit-camp/2026-04-14/
LOCATION:Life Church\, 402 N Missouri St.\, Potosi\, MO\, 63664\, United States
CATEGORIES:Wellness
GEO:37.938135;-90.7859399
X-APPLE-STRUCTURED-LOCATION;VALUE=URI;X-ADDRESS=Life Church 402 N Missouri St. Potosi MO 63664 United States;X-APPLE-RADIUS=500;X-TITLE=402 N Missouri St.:geo:-90.7859399,37.938135
END:VEVENT
BEGIN:VEVENT
DTSTART;TZID=America/Chicago:20260414T183000
DTEND;TZID=America/Chicago:20260414T183000
DTSTAMP:20260423T164858
CREATED:20240423T000052Z
LAST-MODIFIED:20260123T155357Z
UID:10009186-1776191400-1776191400@washingtoncounty.guide
SUMMARY:Washington County Garden Club Meeting
DESCRIPTION:Meetings every second Tuesday at 6:30 P.M at the Washington County Library.
URL:https://washingtoncounty.guide/event/washington-county-garden-club-meeting/2026-04-14/
LOCATION:Washington County Library\, 235 E. High St.\, Potosi\, MO\, 63664\, United States
CATEGORIES:Informational,Networking,Showcase
GEO:37.9342553;-90.7848932
X-APPLE-STRUCTURED-LOCATION;VALUE=URI;X-ADDRESS=Washington County Library 235 E. High St. Potosi MO 63664 United States;X-APPLE-RADIUS=500;X-TITLE=235 E. High St.:geo:-90.7848932,37.9342553
END:VEVENT
BEGIN:VEVENT
DTSTART;TZID=America/Chicago:20260414T190000
DTEND;TZID=America/Chicago:20260414T190000
DTSTAMP:20260423T164858
CREATED:20221111T230807Z
LAST-MODIFIED:20260123T155320Z
UID:10002944-1776193200-1776193200@washingtoncounty.guide
SUMMARY:Richwoods Lions Club Meeting
DESCRIPTION:All are welcome to attend
URL:https://washingtoncounty.guide/event/richwoods-lions-club-meeting/2026-04-14/
LOCATION:Richwoods Lions Club\, 10645 State Hwy A\, Richwoods\, 63071
GEO:38.161911;-90.8244323
X-APPLE-STRUCTURED-LOCATION;VALUE=URI;X-ADDRESS=Richwoods Lions Club 10645 State Hwy A Richwoods 63071;X-APPLE-RADIUS=500;X-TITLE=10645 State Hwy A:geo:-90.8244323,38.161911
END:VEVENT
END:VCALENDAR