BEGIN:VCALENDAR
VERSION:2.0
PRODID:-//Washington County Guide - ECPv6.15.17.1//NONSGML v1.0//EN
CALSCALE:GREGORIAN
METHOD:PUBLISH
X-WR-CALNAME:Washington County Guide
X-ORIGINAL-URL:https://washingtoncounty.guide
X-WR-CALDESC:Events for Washington County Guide
REFRESH-INTERVAL;VALUE=DURATION:PT1H
X-Robots-Tag:noindex
X-PUBLISHED-TTL:PT1H
BEGIN:VTIMEZONE
TZID:America/Chicago
BEGIN:DAYLIGHT
TZOFFSETFROM:-0600
TZOFFSETTO:-0500
TZNAME:CDT
DTSTART:20250309T080000
END:DAYLIGHT
BEGIN:STANDARD
TZOFFSETFROM:-0500
TZOFFSETTO:-0600
TZNAME:CST
DTSTART:20251102T070000
END:STANDARD
BEGIN:DAYLIGHT
TZOFFSETFROM:-0600
TZOFFSETTO:-0500
TZNAME:CDT
DTSTART:20260308T080000
END:DAYLIGHT
BEGIN:STANDARD
TZOFFSETFROM:-0500
TZOFFSETTO:-0600
TZNAME:CST
DTSTART:20261101T070000
END:STANDARD
BEGIN:DAYLIGHT
TZOFFSETFROM:-0600
TZOFFSETTO:-0500
TZNAME:CDT
DTSTART:20270314T080000
END:DAYLIGHT
BEGIN:STANDARD
TZOFFSETFROM:-0500
TZOFFSETTO:-0600
TZNAME:CST
DTSTART:20271107T070000
END:STANDARD
END:VTIMEZONE
BEGIN:VEVENT
DTSTART;TZID=America/Chicago:20260418T120000
DTEND;TZID=America/Chicago:20260418T160000
DTSTAMP:20260423T145844
CREATED:20260417T041545Z
LAST-MODIFIED:20260417T041545Z
UID:10013466-1776513600-1776528000@washingtoncounty.guide
SUMMARY:Jason Cole @ Fyre Lake Winery
DESCRIPTION:  \nJoin us this Saturday as we welcome Jason Cole 12-4PM to the stage at Fyre Lake Winery! \nEnjoy our car show on the lake\, grab a bite to eat\, and grab a seat in the pavilion to listen to some awesome acoustics.
URL:https://washingtoncounty.guide/event/jason-cole-fyre-lake-winery/
LOCATION:Fyre Lake Winery & Event Center\, 12902 State Hwy 47\, Cadet\, MO\, 63630\, United States
CATEGORIES:Drinks,Food,Music
ORGANIZER;CN="Fyre Lake Winery & Event Center":MAILTO:https://www.fyrelakewinery.com/contact
GEO:37.9939915;-90.7135471
X-APPLE-STRUCTURED-LOCATION;VALUE=URI;X-ADDRESS=Fyre Lake Winery & Event Center 12902 State Hwy 47 Cadet MO 63630 United States;X-APPLE-RADIUS=500;X-TITLE=12902 State Hwy 47:geo:-90.7135471,37.9939915
END:VEVENT
BEGIN:VEVENT
DTSTART;TZID=America/Chicago:20260418T120000
DTEND;TZID=America/Chicago:20260418T220000
DTSTAMP:20260423T145844
CREATED:20260417T041033Z
LAST-MODIFIED:20260417T041033Z
UID:10013464-1776513600-1776549600@washingtoncounty.guide
SUMMARY:Cars on the Lake
DESCRIPTION:Cars on the lake car show and pinup contest\nApril 18\, 2026 12pm-3pm\nPublic is judging the car show! Visit the registration booth or purchase special items for your votes
URL:https://washingtoncounty.guide/event/cars-on-the-lake/
LOCATION:Fyre Lake Winery & Event Center\, 12902 State Hwy 47\, Cadet\, MO\, 63630\, United States
CATEGORIES:Entertainment,Family Friendly
ORGANIZER;CN="Fyre Lake Winery & Event Center":MAILTO:https://www.fyrelakewinery.com/contact
GEO:37.9939915;-90.7135471
X-APPLE-STRUCTURED-LOCATION;VALUE=URI;X-ADDRESS=Fyre Lake Winery & Event Center 12902 State Hwy 47 Cadet MO 63630 United States;X-APPLE-RADIUS=500;X-TITLE=12902 State Hwy 47:geo:-90.7135471,37.9939915
END:VEVENT
BEGIN:VEVENT
DTSTART;TZID=America/Chicago:20260418T130000
DTEND;TZID=America/Chicago:20260418T160000
DTSTAMP:20260423T145844
CREATED:20260417T040335Z
LAST-MODIFIED:20260417T040335Z
UID:10013461-1776517200-1776528000@washingtoncounty.guide
SUMMARY:"Hey Dave" @ Edg-Clif
DESCRIPTION:Bring your picnic and your friends to enjoy a fun day at the winery! “Hey Dave” is just the right laid back entertainment for perfect afternoon.
URL:https://washingtoncounty.guide/event/hey-dave-edg-clif/
LOCATION:Edg-Clif Farms Vineyard\, Winery & Brewery\, 10035 Edg-Clif Drive\, Potosi\, MO\, 63664\, United States
CATEGORIES:Drinks,Food,Music
ORGANIZER;CN="Edg-Clif Vineyard%2C Winery & Brewery":MAILTO:steffie@edg-clif.com
GEO:37.9805335;-90.9016929
X-APPLE-STRUCTURED-LOCATION;VALUE=URI;X-ADDRESS=Edg-Clif Farms Vineyard Winery & Brewery 10035 Edg-Clif Drive Potosi MO 63664 United States;X-APPLE-RADIUS=500;X-TITLE=10035 Edg-Clif Drive:geo:-90.9016929,37.9805335
END:VEVENT
BEGIN:VEVENT
DTSTART;TZID=America/Chicago:20260418T190000
DTEND;TZID=America/Chicago:20260418T220000
DTSTAMP:20260423T145844
CREATED:20260417T041735Z
LAST-MODIFIED:20260417T041735Z
UID:10013467-1776538800-1776549600@washingtoncounty.guide
SUMMARY:DJ Fonzerelli @ Fyre Lake Winery
DESCRIPTION:Joining us for the car show on April 18th? Stay for dinner\, drinks and DJ Fonzerelli 7-10PM! \nLocated at 12902 E State Hwy 47 Cadet\, MO. We offer a variety of handcrafted menu items and a full bar for your favorite sips. It’s sure to be a fun filled day!
URL:https://washingtoncounty.guide/event/dj-fonzerelli-fyre-lake-winery/
LOCATION:Fyre Lake Winery & Event Center\, 12902 State Hwy 47\, Cadet\, MO\, 63630\, United States
CATEGORIES:Drinks,Food,Music
ORGANIZER;CN="Fyre Lake Winery & Event Center":MAILTO:https://www.fyrelakewinery.com/contact
GEO:37.9939915;-90.7135471
X-APPLE-STRUCTURED-LOCATION;VALUE=URI;X-ADDRESS=Fyre Lake Winery & Event Center 12902 State Hwy 47 Cadet MO 63630 United States;X-APPLE-RADIUS=500;X-TITLE=12902 State Hwy 47:geo:-90.7135471,37.9939915
END:VEVENT
END:VCALENDAR