BEGIN:VCALENDAR
VERSION:2.0
PRODID:-//Washington County Guide - ECPv6.15.17.1//NONSGML v1.0//EN
CALSCALE:GREGORIAN
METHOD:PUBLISH
X-ORIGINAL-URL:https://washingtoncounty.guide
X-WR-CALDESC:Events for Washington County Guide
REFRESH-INTERVAL;VALUE=DURATION:PT1H
X-Robots-Tag:noindex
X-PUBLISHED-TTL:PT1H
BEGIN:VTIMEZONE
TZID:America/Chicago
BEGIN:DAYLIGHT
TZOFFSETFROM:-0600
TZOFFSETTO:-0500
TZNAME:CDT
DTSTART:20250309T080000
END:DAYLIGHT
BEGIN:STANDARD
TZOFFSETFROM:-0500
TZOFFSETTO:-0600
TZNAME:CST
DTSTART:20251102T070000
END:STANDARD
BEGIN:DAYLIGHT
TZOFFSETFROM:-0600
TZOFFSETTO:-0500
TZNAME:CDT
DTSTART:20260308T080000
END:DAYLIGHT
BEGIN:STANDARD
TZOFFSETFROM:-0500
TZOFFSETTO:-0600
TZNAME:CST
DTSTART:20261101T070000
END:STANDARD
BEGIN:DAYLIGHT
TZOFFSETFROM:-0600
TZOFFSETTO:-0500
TZNAME:CDT
DTSTART:20270314T080000
END:DAYLIGHT
BEGIN:STANDARD
TZOFFSETFROM:-0500
TZOFFSETTO:-0600
TZNAME:CST
DTSTART:20271107T070000
END:STANDARD
END:VTIMEZONE
BEGIN:VEVENT
DTSTART;TZID=America/Chicago:20260425T110000
DTEND;TZID=America/Chicago:20260425T220000
DTSTAMP:20260423T150001
CREATED:20260417T042549Z
LAST-MODIFIED:20260417T042549Z
UID:10013470-1777114800-1777154400@washingtoncounty.guide
SUMMARY:Bands for Billings
DESCRIPTION:Our community has always shown up when it matters most.. now it’s time to do it again.\n\nNate Billings\, a friend of the winery and owner of Dragon Vapor in Potosi\, recently received traumatic injuries from a motorcycle accident. Let’s join together as a community for support!\n\nWith the help of the Shenanigan Sisters\, Saturday April 25th will have 50/50 raffle\, silent auction\, and a FULL day of live music lineup hosted by At My Worst.\n\nLineup: Bigfoot 11AM-1PM\, X Band 1-3PM\, Ear Candy 3-7PM\, Call Upon Giants 7-8PM\, and At My Worst 8-10PM.\n\nJoin us for a day of support\, strength\, and togetherness as we rally around a beloved local business owner. Enjoy live music from talented local bands all day long\, take your chances in our raffle\, and browse incredible items in our silent auction all for a great cause.\n\nLocation: Fyre Lake Winery12902 E State Hwy 47 Cadet\, MO 63630
URL:https://washingtoncounty.guide/event/bands-for-billings/
LOCATION:Fyre Lake Winery & Event Center\, 12902 State Hwy 47\, Cadet\, MO\, 63630\, United States
CATEGORIES:Causes,Drinks,Food,Fundraiser,Music
ORGANIZER;CN="Fyre Lake Winery & Event Center":MAILTO:https://www.fyrelakewinery.com/contact
GEO:37.9939915;-90.7135471
X-APPLE-STRUCTURED-LOCATION;VALUE=URI;X-ADDRESS=Fyre Lake Winery & Event Center 12902 State Hwy 47 Cadet MO 63630 United States;X-APPLE-RADIUS=500;X-TITLE=12902 State Hwy 47:geo:-90.7135471,37.9939915
END:VEVENT
BEGIN:VEVENT
DTSTART;TZID=America/Chicago:20260425T130000
DTEND;TZID=America/Chicago:20260425T160000
DTSTAMP:20260423T150001
CREATED:20260417T040441Z
LAST-MODIFIED:20260417T040441Z
UID:10013462-1777122000-1777132800@washingtoncounty.guide
SUMMARY:Josh Driskill @ Edg-Clif
DESCRIPTION:Live Music performance open to the public!
URL:https://washingtoncounty.guide/event/josh-driskill-edg-clif-2/
LOCATION:Edg-Clif Farms Vineyard\, Winery & Brewery\, 10035 Edg-Clif Drive\, Potosi\, MO\, 63664\, United States
CATEGORIES:Drinks,Food,Music
ORGANIZER;CN="Edg-Clif Vineyard%2C Winery & Brewery":MAILTO:steffie@edg-clif.com
GEO:37.9805335;-90.9016929
X-APPLE-STRUCTURED-LOCATION;VALUE=URI;X-ADDRESS=Edg-Clif Farms Vineyard Winery & Brewery 10035 Edg-Clif Drive Potosi MO 63664 United States;X-APPLE-RADIUS=500;X-TITLE=10035 Edg-Clif Drive:geo:-90.9016929,37.9805335
END:VEVENT
BEGIN:VEVENT
DTSTART;TZID=America/Chicago:20260425T160000
DTEND;TZID=America/Chicago:20260425T200000
DTSTAMP:20260423T150001
CREATED:20260417T042751Z
LAST-MODIFIED:20260417T042751Z
UID:10013471-1777132800-1777147200@washingtoncounty.guide
SUMMARY:EARCANDY @ Fyre Lake Winery
DESCRIPTION:Ear Candy?! Sign me up! They’re sure to bring the party on April 25th at Fyre Lake Winery 4-8PM. \nBring your crew\, wear your dancing shoes and come hungry! We have a large variety of menu options and sips to savor at our full bar. See you there!
URL:https://washingtoncounty.guide/event/earcandy-fyre-lake-winery/
LOCATION:Fyre Lake Winery & Event Center\, 12902 State Hwy 47\, Cadet\, MO\, 63630\, United States
CATEGORIES:Drinks,Food,Music
ORGANIZER;CN="Fyre Lake Winery & Event Center":MAILTO:https://www.fyrelakewinery.com/contact
GEO:37.9939915;-90.7135471
X-APPLE-STRUCTURED-LOCATION;VALUE=URI;X-ADDRESS=Fyre Lake Winery & Event Center 12902 State Hwy 47 Cadet MO 63630 United States;X-APPLE-RADIUS=500;X-TITLE=12902 State Hwy 47:geo:-90.7135471,37.9939915
END:VEVENT
END:VCALENDAR