BEGIN:VCALENDAR
VERSION:2.0
PRODID:-//Washington County Guide - ECPv6.15.17.1//NONSGML v1.0//EN
CALSCALE:GREGORIAN
METHOD:PUBLISH
X-ORIGINAL-URL:https://washingtoncounty.guide
X-WR-CALDESC:Events for Washington County Guide
REFRESH-INTERVAL;VALUE=DURATION:PT1H
X-Robots-Tag:noindex
X-PUBLISHED-TTL:PT1H
BEGIN:VTIMEZONE
TZID:America/Chicago
BEGIN:DAYLIGHT
TZOFFSETFROM:-0600
TZOFFSETTO:-0500
TZNAME:CDT
DTSTART:20250309T080000
END:DAYLIGHT
BEGIN:STANDARD
TZOFFSETFROM:-0500
TZOFFSETTO:-0600
TZNAME:CST
DTSTART:20251102T070000
END:STANDARD
BEGIN:DAYLIGHT
TZOFFSETFROM:-0600
TZOFFSETTO:-0500
TZNAME:CDT
DTSTART:20260308T080000
END:DAYLIGHT
BEGIN:STANDARD
TZOFFSETFROM:-0500
TZOFFSETTO:-0600
TZNAME:CST
DTSTART:20261101T070000
END:STANDARD
BEGIN:DAYLIGHT
TZOFFSETFROM:-0600
TZOFFSETTO:-0500
TZNAME:CDT
DTSTART:20270314T080000
END:DAYLIGHT
BEGIN:STANDARD
TZOFFSETFROM:-0500
TZOFFSETTO:-0600
TZNAME:CST
DTSTART:20271107T070000
END:STANDARD
END:VTIMEZONE
BEGIN:VEVENT
DTSTART;TZID=America/Chicago:20260506T173000
DTEND;TZID=America/Chicago:20260506T203000
DTSTAMP:20260423T182105
CREATED:20231110T194715Z
LAST-MODIFIED:20231122T020847Z
UID:10006558-1778088600-1778099400@washingtoncounty.guide
SUMMARY:HiSET (GED) Class
DESCRIPTION:For more information\, contact the organizer. \nThe cancelled house times are: \n\nNov 20 – 24 for Thanksgiving break\nDecember 20- Jan 2 for Christmas and New Years break\nFeb 8 for a training\nMarch 25- April 1 for Spring Break\nMay 2 for a teachers meeting\nJune 6 is the last day of classes for the school year. Classes will resume July 11.
URL:https://washingtoncounty.guide/event/hiset-ged-class-2/2026-05-06/
LOCATION:Potosi R-III Admin Building\, 400 N. Mine St\, Potosi\, Missouri\, 63664
CATEGORIES:Adults
ORGANIZER;CN="NCSD AEL":MAILTO:potosihse@ncsd.k12.mo.us
GEO:37.9393663;-90.7864438
X-APPLE-STRUCTURED-LOCATION;VALUE=URI;X-ADDRESS=Potosi R-III Admin Building 400 N. Mine St Potosi Missouri 63664;X-APPLE-RADIUS=500;X-TITLE=400 N. Mine St:geo:-90.7864438,37.9393663
END:VEVENT
END:VCALENDAR