BEGIN:VCALENDAR
VERSION:2.0
PRODID:-//Washington County Guide - ECPv6.15.17.1//NONSGML v1.0//EN
CALSCALE:GREGORIAN
METHOD:PUBLISH
X-WR-CALNAME:Washington County Guide
X-ORIGINAL-URL:https://washingtoncounty.guide
X-WR-CALDESC:Events for Washington County Guide
REFRESH-INTERVAL;VALUE=DURATION:PT1H
X-Robots-Tag:noindex
X-PUBLISHED-TTL:PT1H
BEGIN:VTIMEZONE
TZID:America/Chicago
BEGIN:DAYLIGHT
TZOFFSETFROM:-0600
TZOFFSETTO:-0500
TZNAME:CDT
DTSTART:20250309T080000
END:DAYLIGHT
BEGIN:STANDARD
TZOFFSETFROM:-0500
TZOFFSETTO:-0600
TZNAME:CST
DTSTART:20251102T070000
END:STANDARD
BEGIN:DAYLIGHT
TZOFFSETFROM:-0600
TZOFFSETTO:-0500
TZNAME:CDT
DTSTART:20260308T080000
END:DAYLIGHT
BEGIN:STANDARD
TZOFFSETFROM:-0500
TZOFFSETTO:-0600
TZNAME:CST
DTSTART:20261101T070000
END:STANDARD
BEGIN:DAYLIGHT
TZOFFSETFROM:-0600
TZOFFSETTO:-0500
TZNAME:CDT
DTSTART:20270314T080000
END:DAYLIGHT
BEGIN:STANDARD
TZOFFSETFROM:-0500
TZOFFSETTO:-0600
TZNAME:CST
DTSTART:20271107T070000
END:STANDARD
END:VTIMEZONE
BEGIN:VEVENT
DTSTART;TZID=America/Chicago:20260521T173000
DTEND;TZID=America/Chicago:20260521T203000
DTSTAMP:20260423T182032
CREATED:20231110T194832Z
LAST-MODIFIED:20231122T015502Z
UID:10006821-1779384600-1779395400@washingtoncounty.guide
SUMMARY:HiSET (GED) Class
DESCRIPTION:For more information\, contact the organizer. \nThe cancelled house times are: \n\nNov 20 – 24 for Thanksgiving break\nDecember 20- Jan 2 for Christmas and New Years break\nFeb 8 for a training\nMarch 25- April 1 for Spring Break\nMay 2 for a teachers meeting\nJune 6 is the last day of classes for the school year. Classes will resume July 11.
URL:https://washingtoncounty.guide/event/hiset-ged-class-3/2026-05-21/
LOCATION:Potosi R-III Admin Building\, 400 N. Mine St\, Potosi\, Missouri\, 63664
CATEGORIES:Adults
ORGANIZER;CN="NCSD AEL":MAILTO:potosihse@ncsd.k12.mo.us
GEO:37.9393663;-90.7864438
X-APPLE-STRUCTURED-LOCATION;VALUE=URI;X-ADDRESS=Potosi R-III Admin Building 400 N. Mine St Potosi Missouri 63664;X-APPLE-RADIUS=500;X-TITLE=400 N. Mine St:geo:-90.7864438,37.9393663
END:VEVENT
BEGIN:VEVENT
DTSTART;TZID=America/Chicago:20260521T180000
DTEND;TZID=America/Chicago:20260521T180000
DTSTAMP:20260423T182032
CREATED:20240206T213052Z
LAST-MODIFIED:20260123T155124Z
UID:10008127-1779386400-1779386400@washingtoncounty.guide
SUMMARY:Valley Caledonia School Board Meeting
DESCRIPTION:Meeting times and dates subject to change.
URL:https://washingtoncounty.guide/event/valley-caledonia-school-board-meeting/2026-05-21/
LOCATION:Valley High School\, 1 Viking Dr\, Caledonia\, MO\, 63631\, United States
CATEGORIES:Community Development
GEO:37.7774312;-90.7792139
X-APPLE-STRUCTURED-LOCATION;VALUE=URI;X-ADDRESS=Valley High School 1 Viking Dr Caledonia MO 63631 United States;X-APPLE-RADIUS=500;X-TITLE=1 Viking Dr:geo:-90.7792139,37.7774312
END:VEVENT
BEGIN:VEVENT
DTSTART;TZID=America/Chicago:20260521T183000
DTEND;TZID=America/Chicago:20260521T183000
DTSTAMP:20260423T182032
CREATED:20240206T213449Z
LAST-MODIFIED:20260123T155050Z
UID:10008187-1779388200-1779388200@washingtoncounty.guide
SUMMARY:Kingston K-14 School Board Meeting
DESCRIPTION:Meeting times and dates subject to change.
URL:https://washingtoncounty.guide/event/kingston-k-14-school-board-meeting/2026-05-21/
LOCATION:Kingston K-14 School\, 10047 Diamond Rd\, Cadet\, MO\, 63630\, United States
CATEGORIES:Community Development
GEO:38.0645287;-90.7442123
X-APPLE-STRUCTURED-LOCATION;VALUE=URI;X-ADDRESS=Kingston K-14 School 10047 Diamond Rd Cadet MO 63630 United States;X-APPLE-RADIUS=500;X-TITLE=10047 Diamond Rd:geo:-90.7442123,38.0645287
END:VEVENT
BEGIN:VEVENT
DTSTART;TZID=America/Chicago:20260521T190000
DTEND;TZID=America/Chicago:20260521T190000
DTSTAMP:20260423T182032
CREATED:20240206T213834Z
LAST-MODIFIED:20240206T214141Z
UID:10008248-1779390000-1779390000@washingtoncounty.guide
SUMMARY:Richwoods School Board of Education Meeting
DESCRIPTION:Meeting times and dates subject to change.
URL:https://washingtoncounty.guide/event/richwoods-school-board-of-education-meeting/2026-05-21/
LOCATION:Richwoods R-VII School District\, 10788 State Hwy A\, Richwoods\, MO\, 63071\, United States
CATEGORIES:Community Development
GEO:38.1612937;-90.8269821
X-APPLE-STRUCTURED-LOCATION;VALUE=URI;X-ADDRESS=Richwoods R-VII School District 10788 State Hwy A Richwoods MO 63071 United States;X-APPLE-RADIUS=500;X-TITLE=10788 State Hwy A:geo:-90.8269821,38.1612937
END:VEVENT
END:VCALENDAR