BEGIN:VCALENDAR
VERSION:2.0
PRODID:-//Washington County Guide - ECPv6.15.17.1//NONSGML v1.0//EN
CALSCALE:GREGORIAN
METHOD:PUBLISH
X-ORIGINAL-URL:https://washingtoncounty.guide
X-WR-CALDESC:Events for Washington County Guide
REFRESH-INTERVAL;VALUE=DURATION:PT1H
X-Robots-Tag:noindex
X-PUBLISHED-TTL:PT1H
BEGIN:VTIMEZONE
TZID:America/Chicago
BEGIN:DAYLIGHT
TZOFFSETFROM:-0600
TZOFFSETTO:-0500
TZNAME:CDT
DTSTART:20250309T080000
END:DAYLIGHT
BEGIN:STANDARD
TZOFFSETFROM:-0500
TZOFFSETTO:-0600
TZNAME:CST
DTSTART:20251102T070000
END:STANDARD
BEGIN:DAYLIGHT
TZOFFSETFROM:-0600
TZOFFSETTO:-0500
TZNAME:CDT
DTSTART:20260308T080000
END:DAYLIGHT
BEGIN:STANDARD
TZOFFSETFROM:-0500
TZOFFSETTO:-0600
TZNAME:CST
DTSTART:20261101T070000
END:STANDARD
BEGIN:DAYLIGHT
TZOFFSETFROM:-0600
TZOFFSETTO:-0500
TZNAME:CDT
DTSTART:20270314T080000
END:DAYLIGHT
BEGIN:STANDARD
TZOFFSETFROM:-0500
TZOFFSETTO:-0600
TZNAME:CST
DTSTART:20271107T070000
END:STANDARD
END:VTIMEZONE
BEGIN:VEVENT
DTSTART;TZID=America/Chicago:20260623T100000
DTEND;TZID=America/Chicago:20260623T120000
DTSTAMP:20260424T183508
CREATED:20231016T141635Z
LAST-MODIFIED:20260123T155959Z
UID:10005682-1782208800-1782216000@washingtoncounty.guide
SUMMARY:TOPS Weight-Loss Group Meeting
DESCRIPTION:TOPS: Taking off pounds sensibly. TOPS is a non-commercial weight-loss group that focuses on realistic weight loss for real people. \nWeigh-Ins from 10 A.M. – 11 A.M. and meeting from 11 A.M. – Noon. \nFor more info\, call Jeanette Sexton at 314-808-5531
URL:https://washingtoncounty.guide/event/tops-weight-loss-group-meeting/2026-06-23/
LOCATION:Washington County Library\, 235 E. High St.\, Potosi\, MO\, 63664\, United States
CATEGORIES:Networking,Wellness
GEO:37.9342553;-90.7848932
X-APPLE-STRUCTURED-LOCATION;VALUE=URI;X-ADDRESS=Washington County Library 235 E. High St. Potosi MO 63664 United States;X-APPLE-RADIUS=500;X-TITLE=235 E. High St.:geo:-90.7848932,37.9342553
END:VEVENT
BEGIN:VEVENT
DTSTART;TZID=America/Chicago:20260630T100000
DTEND;TZID=America/Chicago:20260630T120000
DTSTAMP:20260424T183508
CREATED:20231016T141635Z
LAST-MODIFIED:20260123T155959Z
UID:10005683-1782813600-1782820800@washingtoncounty.guide
SUMMARY:TOPS Weight-Loss Group Meeting
DESCRIPTION:TOPS: Taking off pounds sensibly. TOPS is a non-commercial weight-loss group that focuses on realistic weight loss for real people. \nWeigh-Ins from 10 A.M. – 11 A.M. and meeting from 11 A.M. – Noon. \nFor more info\, call Jeanette Sexton at 314-808-5531
URL:https://washingtoncounty.guide/event/tops-weight-loss-group-meeting/2026-06-30/
LOCATION:Washington County Library\, 235 E. High St.\, Potosi\, MO\, 63664\, United States
CATEGORIES:Networking,Wellness
GEO:37.9342553;-90.7848932
X-APPLE-STRUCTURED-LOCATION;VALUE=URI;X-ADDRESS=Washington County Library 235 E. High St. Potosi MO 63664 United States;X-APPLE-RADIUS=500;X-TITLE=235 E. High St.:geo:-90.7848932,37.9342553
END:VEVENT
BEGIN:VEVENT
DTSTART;TZID=America/Chicago:20260707T083000
DTEND;TZID=America/Chicago:20260707T083000
DTSTAMP:20260424T183508
CREATED:20231212T151419Z
LAST-MODIFIED:20231212T151419Z
UID:10007365-1783413000-1783413000@washingtoncounty.guide
SUMMARY:Washington County IDA Board meeting
DESCRIPTION:Contact organizer for more information.
URL:https://washingtoncounty.guide/event/washington-county-ida-board-meeting/2026-07-07/
LOCATION:Washington County IDA Office\, 501 E High St.\, Potosi\, MO\, 63664\, United States
CATEGORIES:Adults,Informational,Networking
ORGANIZER;CN="Washington County IDA":MAILTO:contact@washingtoncomo.com
GEO:37.9317747;-90.7805093
X-APPLE-STRUCTURED-LOCATION;VALUE=URI;X-ADDRESS=Washington County IDA Office 501 E High St. Potosi MO 63664 United States;X-APPLE-RADIUS=500;X-TITLE=501 E High St.:geo:-90.7805093,37.9317747
END:VEVENT
BEGIN:VEVENT
DTSTART;TZID=America/Chicago:20260707T100000
DTEND;TZID=America/Chicago:20260707T120000
DTSTAMP:20260424T183508
CREATED:20231016T141635Z
LAST-MODIFIED:20260123T155959Z
UID:10005684-1783418400-1783425600@washingtoncounty.guide
SUMMARY:TOPS Weight-Loss Group Meeting
DESCRIPTION:TOPS: Taking off pounds sensibly. TOPS is a non-commercial weight-loss group that focuses on realistic weight loss for real people. \nWeigh-Ins from 10 A.M. – 11 A.M. and meeting from 11 A.M. – Noon. \nFor more info\, call Jeanette Sexton at 314-808-5531
URL:https://washingtoncounty.guide/event/tops-weight-loss-group-meeting/2026-07-07/
LOCATION:Washington County Library\, 235 E. High St.\, Potosi\, MO\, 63664\, United States
CATEGORIES:Networking,Wellness
GEO:37.9342553;-90.7848932
X-APPLE-STRUCTURED-LOCATION;VALUE=URI;X-ADDRESS=Washington County Library 235 E. High St. Potosi MO 63664 United States;X-APPLE-RADIUS=500;X-TITLE=235 E. High St.:geo:-90.7848932,37.9342553
END:VEVENT
BEGIN:VEVENT
DTSTART;TZID=America/Chicago:20260714T100000
DTEND;TZID=America/Chicago:20260714T120000
DTSTAMP:20260424T183508
CREATED:20231016T141635Z
LAST-MODIFIED:20260123T155959Z
UID:10005685-1784023200-1784030400@washingtoncounty.guide
SUMMARY:TOPS Weight-Loss Group Meeting
DESCRIPTION:TOPS: Taking off pounds sensibly. TOPS is a non-commercial weight-loss group that focuses on realistic weight loss for real people. \nWeigh-Ins from 10 A.M. – 11 A.M. and meeting from 11 A.M. – Noon. \nFor more info\, call Jeanette Sexton at 314-808-5531
URL:https://washingtoncounty.guide/event/tops-weight-loss-group-meeting/2026-07-14/
LOCATION:Washington County Library\, 235 E. High St.\, Potosi\, MO\, 63664\, United States
CATEGORIES:Networking,Wellness
GEO:37.9342553;-90.7848932
X-APPLE-STRUCTURED-LOCATION;VALUE=URI;X-ADDRESS=Washington County Library 235 E. High St. Potosi MO 63664 United States;X-APPLE-RADIUS=500;X-TITLE=235 E. High St.:geo:-90.7848932,37.9342553
END:VEVENT
BEGIN:VEVENT
DTSTART;TZID=America/Chicago:20260714T183000
DTEND;TZID=America/Chicago:20260714T183000
DTSTAMP:20260424T183508
CREATED:20240423T000052Z
LAST-MODIFIED:20260123T155357Z
UID:10009189-1784053800-1784053800@washingtoncounty.guide
SUMMARY:Washington County Garden Club Meeting
DESCRIPTION:Meetings every second Tuesday at 6:30 P.M at the Washington County Library.
URL:https://washingtoncounty.guide/event/washington-county-garden-club-meeting/2026-07-14/
LOCATION:Washington County Library\, 235 E. High St.\, Potosi\, MO\, 63664\, United States
CATEGORIES:Informational,Networking,Showcase
GEO:37.9342553;-90.7848932
X-APPLE-STRUCTURED-LOCATION;VALUE=URI;X-ADDRESS=Washington County Library 235 E. High St. Potosi MO 63664 United States;X-APPLE-RADIUS=500;X-TITLE=235 E. High St.:geo:-90.7848932,37.9342553
END:VEVENT
BEGIN:VEVENT
DTSTART;TZID=America/Chicago:20260721T100000
DTEND;TZID=America/Chicago:20260721T120000
DTSTAMP:20260424T183508
CREATED:20231016T141635Z
LAST-MODIFIED:20260123T155959Z
UID:10005686-1784628000-1784635200@washingtoncounty.guide
SUMMARY:TOPS Weight-Loss Group Meeting
DESCRIPTION:TOPS: Taking off pounds sensibly. TOPS is a non-commercial weight-loss group that focuses on realistic weight loss for real people. \nWeigh-Ins from 10 A.M. – 11 A.M. and meeting from 11 A.M. – Noon. \nFor more info\, call Jeanette Sexton at 314-808-5531
URL:https://washingtoncounty.guide/event/tops-weight-loss-group-meeting/2026-07-21/
LOCATION:Washington County Library\, 235 E. High St.\, Potosi\, MO\, 63664\, United States
CATEGORIES:Networking,Wellness
GEO:37.9342553;-90.7848932
X-APPLE-STRUCTURED-LOCATION;VALUE=URI;X-ADDRESS=Washington County Library 235 E. High St. Potosi MO 63664 United States;X-APPLE-RADIUS=500;X-TITLE=235 E. High St.:geo:-90.7848932,37.9342553
END:VEVENT
BEGIN:VEVENT
DTSTART;TZID=America/Chicago:20260728T100000
DTEND;TZID=America/Chicago:20260728T120000
DTSTAMP:20260424T183508
CREATED:20231016T141635Z
LAST-MODIFIED:20260123T155959Z
UID:10005687-1785232800-1785240000@washingtoncounty.guide
SUMMARY:TOPS Weight-Loss Group Meeting
DESCRIPTION:TOPS: Taking off pounds sensibly. TOPS is a non-commercial weight-loss group that focuses on realistic weight loss for real people. \nWeigh-Ins from 10 A.M. – 11 A.M. and meeting from 11 A.M. – Noon. \nFor more info\, call Jeanette Sexton at 314-808-5531
URL:https://washingtoncounty.guide/event/tops-weight-loss-group-meeting/2026-07-28/
LOCATION:Washington County Library\, 235 E. High St.\, Potosi\, MO\, 63664\, United States
CATEGORIES:Networking,Wellness
GEO:37.9342553;-90.7848932
X-APPLE-STRUCTURED-LOCATION;VALUE=URI;X-ADDRESS=Washington County Library 235 E. High St. Potosi MO 63664 United States;X-APPLE-RADIUS=500;X-TITLE=235 E. High St.:geo:-90.7848932,37.9342553
END:VEVENT
BEGIN:VEVENT
DTSTART;TZID=America/Chicago:20260804T083000
DTEND;TZID=America/Chicago:20260804T083000
DTSTAMP:20260424T183508
CREATED:20231212T151419Z
LAST-MODIFIED:20231212T151419Z
UID:10007366-1785832200-1785832200@washingtoncounty.guide
SUMMARY:Washington County IDA Board meeting
DESCRIPTION:Contact organizer for more information.
URL:https://washingtoncounty.guide/event/washington-county-ida-board-meeting/2026-08-04/
LOCATION:Washington County IDA Office\, 501 E High St.\, Potosi\, MO\, 63664\, United States
CATEGORIES:Adults,Informational,Networking
ORGANIZER;CN="Washington County IDA":MAILTO:contact@washingtoncomo.com
GEO:37.9317747;-90.7805093
X-APPLE-STRUCTURED-LOCATION;VALUE=URI;X-ADDRESS=Washington County IDA Office 501 E High St. Potosi MO 63664 United States;X-APPLE-RADIUS=500;X-TITLE=501 E High St.:geo:-90.7805093,37.9317747
END:VEVENT
BEGIN:VEVENT
DTSTART;TZID=America/Chicago:20260804T100000
DTEND;TZID=America/Chicago:20260804T120000
DTSTAMP:20260424T183508
CREATED:20231016T141635Z
LAST-MODIFIED:20260123T155959Z
UID:10005688-1785837600-1785844800@washingtoncounty.guide
SUMMARY:TOPS Weight-Loss Group Meeting
DESCRIPTION:TOPS: Taking off pounds sensibly. TOPS is a non-commercial weight-loss group that focuses on realistic weight loss for real people. \nWeigh-Ins from 10 A.M. – 11 A.M. and meeting from 11 A.M. – Noon. \nFor more info\, call Jeanette Sexton at 314-808-5531
URL:https://washingtoncounty.guide/event/tops-weight-loss-group-meeting/2026-08-04/
LOCATION:Washington County Library\, 235 E. High St.\, Potosi\, MO\, 63664\, United States
CATEGORIES:Networking,Wellness
GEO:37.9342553;-90.7848932
X-APPLE-STRUCTURED-LOCATION;VALUE=URI;X-ADDRESS=Washington County Library 235 E. High St. Potosi MO 63664 United States;X-APPLE-RADIUS=500;X-TITLE=235 E. High St.:geo:-90.7848932,37.9342553
END:VEVENT
BEGIN:VEVENT
DTSTART;TZID=America/Chicago:20260811T100000
DTEND;TZID=America/Chicago:20260811T120000
DTSTAMP:20260424T183508
CREATED:20231016T141635Z
LAST-MODIFIED:20260123T155959Z
UID:10005689-1786442400-1786449600@washingtoncounty.guide
SUMMARY:TOPS Weight-Loss Group Meeting
DESCRIPTION:TOPS: Taking off pounds sensibly. TOPS is a non-commercial weight-loss group that focuses on realistic weight loss for real people. \nWeigh-Ins from 10 A.M. – 11 A.M. and meeting from 11 A.M. – Noon. \nFor more info\, call Jeanette Sexton at 314-808-5531
URL:https://washingtoncounty.guide/event/tops-weight-loss-group-meeting/2026-08-11/
LOCATION:Washington County Library\, 235 E. High St.\, Potosi\, MO\, 63664\, United States
CATEGORIES:Networking,Wellness
GEO:37.9342553;-90.7848932
X-APPLE-STRUCTURED-LOCATION;VALUE=URI;X-ADDRESS=Washington County Library 235 E. High St. Potosi MO 63664 United States;X-APPLE-RADIUS=500;X-TITLE=235 E. High St.:geo:-90.7848932,37.9342553
END:VEVENT
BEGIN:VEVENT
DTSTART;TZID=America/Chicago:20260811T183000
DTEND;TZID=America/Chicago:20260811T183000
DTSTAMP:20260424T183508
CREATED:20240423T000052Z
LAST-MODIFIED:20260123T155357Z
UID:10009190-1786473000-1786473000@washingtoncounty.guide
SUMMARY:Washington County Garden Club Meeting
DESCRIPTION:Meetings every second Tuesday at 6:30 P.M at the Washington County Library.
URL:https://washingtoncounty.guide/event/washington-county-garden-club-meeting/2026-08-11/
LOCATION:Washington County Library\, 235 E. High St.\, Potosi\, MO\, 63664\, United States
CATEGORIES:Informational,Networking,Showcase
GEO:37.9342553;-90.7848932
X-APPLE-STRUCTURED-LOCATION;VALUE=URI;X-ADDRESS=Washington County Library 235 E. High St. Potosi MO 63664 United States;X-APPLE-RADIUS=500;X-TITLE=235 E. High St.:geo:-90.7848932,37.9342553
END:VEVENT
BEGIN:VEVENT
DTSTART;TZID=America/Chicago:20260818T100000
DTEND;TZID=America/Chicago:20260818T120000
DTSTAMP:20260424T183508
CREATED:20231016T141635Z
LAST-MODIFIED:20260123T155959Z
UID:10005690-1787047200-1787054400@washingtoncounty.guide
SUMMARY:TOPS Weight-Loss Group Meeting
DESCRIPTION:TOPS: Taking off pounds sensibly. TOPS is a non-commercial weight-loss group that focuses on realistic weight loss for real people. \nWeigh-Ins from 10 A.M. – 11 A.M. and meeting from 11 A.M. – Noon. \nFor more info\, call Jeanette Sexton at 314-808-5531
URL:https://washingtoncounty.guide/event/tops-weight-loss-group-meeting/2026-08-18/
LOCATION:Washington County Library\, 235 E. High St.\, Potosi\, MO\, 63664\, United States
CATEGORIES:Networking,Wellness
GEO:37.9342553;-90.7848932
X-APPLE-STRUCTURED-LOCATION;VALUE=URI;X-ADDRESS=Washington County Library 235 E. High St. Potosi MO 63664 United States;X-APPLE-RADIUS=500;X-TITLE=235 E. High St.:geo:-90.7848932,37.9342553
END:VEVENT
BEGIN:VEVENT
DTSTART;TZID=America/Chicago:20260825T100000
DTEND;TZID=America/Chicago:20260825T120000
DTSTAMP:20260424T183508
CREATED:20231016T141635Z
LAST-MODIFIED:20260123T155959Z
UID:10005691-1787652000-1787659200@washingtoncounty.guide
SUMMARY:TOPS Weight-Loss Group Meeting
DESCRIPTION:TOPS: Taking off pounds sensibly. TOPS is a non-commercial weight-loss group that focuses on realistic weight loss for real people. \nWeigh-Ins from 10 A.M. – 11 A.M. and meeting from 11 A.M. – Noon. \nFor more info\, call Jeanette Sexton at 314-808-5531
URL:https://washingtoncounty.guide/event/tops-weight-loss-group-meeting/2026-08-25/
LOCATION:Washington County Library\, 235 E. High St.\, Potosi\, MO\, 63664\, United States
CATEGORIES:Networking,Wellness
GEO:37.9342553;-90.7848932
X-APPLE-STRUCTURED-LOCATION;VALUE=URI;X-ADDRESS=Washington County Library 235 E. High St. Potosi MO 63664 United States;X-APPLE-RADIUS=500;X-TITLE=235 E. High St.:geo:-90.7848932,37.9342553
END:VEVENT
BEGIN:VEVENT
DTSTART;TZID=America/Chicago:20260901T083000
DTEND;TZID=America/Chicago:20260901T083000
DTSTAMP:20260424T183508
CREATED:20231212T151419Z
LAST-MODIFIED:20231212T151419Z
UID:10007367-1788251400-1788251400@washingtoncounty.guide
SUMMARY:Washington County IDA Board meeting
DESCRIPTION:Contact organizer for more information.
URL:https://washingtoncounty.guide/event/washington-county-ida-board-meeting/2026-09-01/
LOCATION:Washington County IDA Office\, 501 E High St.\, Potosi\, MO\, 63664\, United States
CATEGORIES:Adults,Informational,Networking
ORGANIZER;CN="Washington County IDA":MAILTO:contact@washingtoncomo.com
GEO:37.9317747;-90.7805093
X-APPLE-STRUCTURED-LOCATION;VALUE=URI;X-ADDRESS=Washington County IDA Office 501 E High St. Potosi MO 63664 United States;X-APPLE-RADIUS=500;X-TITLE=501 E High St.:geo:-90.7805093,37.9317747
END:VEVENT
BEGIN:VEVENT
DTSTART;TZID=America/Chicago:20260901T100000
DTEND;TZID=America/Chicago:20260901T120000
DTSTAMP:20260424T183508
CREATED:20231016T141635Z
LAST-MODIFIED:20260123T155959Z
UID:10005692-1788256800-1788264000@washingtoncounty.guide
SUMMARY:TOPS Weight-Loss Group Meeting
DESCRIPTION:TOPS: Taking off pounds sensibly. TOPS is a non-commercial weight-loss group that focuses on realistic weight loss for real people. \nWeigh-Ins from 10 A.M. – 11 A.M. and meeting from 11 A.M. – Noon. \nFor more info\, call Jeanette Sexton at 314-808-5531
URL:https://washingtoncounty.guide/event/tops-weight-loss-group-meeting/2026-09-01/
LOCATION:Washington County Library\, 235 E. High St.\, Potosi\, MO\, 63664\, United States
CATEGORIES:Networking,Wellness
GEO:37.9342553;-90.7848932
X-APPLE-STRUCTURED-LOCATION;VALUE=URI;X-ADDRESS=Washington County Library 235 E. High St. Potosi MO 63664 United States;X-APPLE-RADIUS=500;X-TITLE=235 E. High St.:geo:-90.7848932,37.9342553
END:VEVENT
BEGIN:VEVENT
DTSTART;TZID=America/Chicago:20260908T100000
DTEND;TZID=America/Chicago:20260908T120000
DTSTAMP:20260424T183508
CREATED:20231016T141635Z
LAST-MODIFIED:20260123T155959Z
UID:10005693-1788861600-1788868800@washingtoncounty.guide
SUMMARY:TOPS Weight-Loss Group Meeting
DESCRIPTION:TOPS: Taking off pounds sensibly. TOPS is a non-commercial weight-loss group that focuses on realistic weight loss for real people. \nWeigh-Ins from 10 A.M. – 11 A.M. and meeting from 11 A.M. – Noon. \nFor more info\, call Jeanette Sexton at 314-808-5531
URL:https://washingtoncounty.guide/event/tops-weight-loss-group-meeting/2026-09-08/
LOCATION:Washington County Library\, 235 E. High St.\, Potosi\, MO\, 63664\, United States
CATEGORIES:Networking,Wellness
GEO:37.9342553;-90.7848932
X-APPLE-STRUCTURED-LOCATION;VALUE=URI;X-ADDRESS=Washington County Library 235 E. High St. Potosi MO 63664 United States;X-APPLE-RADIUS=500;X-TITLE=235 E. High St.:geo:-90.7848932,37.9342553
END:VEVENT
BEGIN:VEVENT
DTSTART;TZID=America/Chicago:20260908T183000
DTEND;TZID=America/Chicago:20260908T183000
DTSTAMP:20260424T183508
CREATED:20240423T000052Z
LAST-MODIFIED:20260123T155357Z
UID:10009191-1788892200-1788892200@washingtoncounty.guide
SUMMARY:Washington County Garden Club Meeting
DESCRIPTION:Meetings every second Tuesday at 6:30 P.M at the Washington County Library.
URL:https://washingtoncounty.guide/event/washington-county-garden-club-meeting/2026-09-08/
LOCATION:Washington County Library\, 235 E. High St.\, Potosi\, MO\, 63664\, United States
CATEGORIES:Informational,Networking,Showcase
GEO:37.9342553;-90.7848932
X-APPLE-STRUCTURED-LOCATION;VALUE=URI;X-ADDRESS=Washington County Library 235 E. High St. Potosi MO 63664 United States;X-APPLE-RADIUS=500;X-TITLE=235 E. High St.:geo:-90.7848932,37.9342553
END:VEVENT
BEGIN:VEVENT
DTSTART;TZID=America/Chicago:20260915T100000
DTEND;TZID=America/Chicago:20260915T120000
DTSTAMP:20260424T183508
CREATED:20231016T141635Z
LAST-MODIFIED:20260123T155959Z
UID:10005694-1789466400-1789473600@washingtoncounty.guide
SUMMARY:TOPS Weight-Loss Group Meeting
DESCRIPTION:TOPS: Taking off pounds sensibly. TOPS is a non-commercial weight-loss group that focuses on realistic weight loss for real people. \nWeigh-Ins from 10 A.M. – 11 A.M. and meeting from 11 A.M. – Noon. \nFor more info\, call Jeanette Sexton at 314-808-5531
URL:https://washingtoncounty.guide/event/tops-weight-loss-group-meeting/2026-09-15/
LOCATION:Washington County Library\, 235 E. High St.\, Potosi\, MO\, 63664\, United States
CATEGORIES:Networking,Wellness
GEO:37.9342553;-90.7848932
X-APPLE-STRUCTURED-LOCATION;VALUE=URI;X-ADDRESS=Washington County Library 235 E. High St. Potosi MO 63664 United States;X-APPLE-RADIUS=500;X-TITLE=235 E. High St.:geo:-90.7848932,37.9342553
END:VEVENT
BEGIN:VEVENT
DTSTART;TZID=America/Chicago:20260922T100000
DTEND;TZID=America/Chicago:20260922T120000
DTSTAMP:20260424T183508
CREATED:20231016T141635Z
LAST-MODIFIED:20260123T155959Z
UID:10005695-1790071200-1790078400@washingtoncounty.guide
SUMMARY:TOPS Weight-Loss Group Meeting
DESCRIPTION:TOPS: Taking off pounds sensibly. TOPS is a non-commercial weight-loss group that focuses on realistic weight loss for real people. \nWeigh-Ins from 10 A.M. – 11 A.M. and meeting from 11 A.M. – Noon. \nFor more info\, call Jeanette Sexton at 314-808-5531
URL:https://washingtoncounty.guide/event/tops-weight-loss-group-meeting/2026-09-22/
LOCATION:Washington County Library\, 235 E. High St.\, Potosi\, MO\, 63664\, United States
CATEGORIES:Networking,Wellness
GEO:37.9342553;-90.7848932
X-APPLE-STRUCTURED-LOCATION;VALUE=URI;X-ADDRESS=Washington County Library 235 E. High St. Potosi MO 63664 United States;X-APPLE-RADIUS=500;X-TITLE=235 E. High St.:geo:-90.7848932,37.9342553
END:VEVENT
BEGIN:VEVENT
DTSTART;TZID=America/Chicago:20260929T100000
DTEND;TZID=America/Chicago:20260929T120000
DTSTAMP:20260424T183508
CREATED:20231016T141635Z
LAST-MODIFIED:20260123T155959Z
UID:10005696-1790676000-1790683200@washingtoncounty.guide
SUMMARY:TOPS Weight-Loss Group Meeting
DESCRIPTION:TOPS: Taking off pounds sensibly. TOPS is a non-commercial weight-loss group that focuses on realistic weight loss for real people. \nWeigh-Ins from 10 A.M. – 11 A.M. and meeting from 11 A.M. – Noon. \nFor more info\, call Jeanette Sexton at 314-808-5531
URL:https://washingtoncounty.guide/event/tops-weight-loss-group-meeting/2026-09-29/
LOCATION:Washington County Library\, 235 E. High St.\, Potosi\, MO\, 63664\, United States
CATEGORIES:Networking,Wellness
GEO:37.9342553;-90.7848932
X-APPLE-STRUCTURED-LOCATION;VALUE=URI;X-ADDRESS=Washington County Library 235 E. High St. Potosi MO 63664 United States;X-APPLE-RADIUS=500;X-TITLE=235 E. High St.:geo:-90.7848932,37.9342553
END:VEVENT
BEGIN:VEVENT
DTSTART;TZID=America/Chicago:20261006T083000
DTEND;TZID=America/Chicago:20261006T083000
DTSTAMP:20260424T183508
CREATED:20231212T151419Z
LAST-MODIFIED:20231212T151419Z
UID:10007368-1791275400-1791275400@washingtoncounty.guide
SUMMARY:Washington County IDA Board meeting
DESCRIPTION:Contact organizer for more information.
URL:https://washingtoncounty.guide/event/washington-county-ida-board-meeting/2026-10-06/
LOCATION:Washington County IDA Office\, 501 E High St.\, Potosi\, MO\, 63664\, United States
CATEGORIES:Adults,Informational,Networking
ORGANIZER;CN="Washington County IDA":MAILTO:contact@washingtoncomo.com
GEO:37.9317747;-90.7805093
X-APPLE-STRUCTURED-LOCATION;VALUE=URI;X-ADDRESS=Washington County IDA Office 501 E High St. Potosi MO 63664 United States;X-APPLE-RADIUS=500;X-TITLE=501 E High St.:geo:-90.7805093,37.9317747
END:VEVENT
BEGIN:VEVENT
DTSTART;TZID=America/Chicago:20261006T100000
DTEND;TZID=America/Chicago:20261006T120000
DTSTAMP:20260424T183508
CREATED:20231016T141635Z
LAST-MODIFIED:20260123T155959Z
UID:10005697-1791280800-1791288000@washingtoncounty.guide
SUMMARY:TOPS Weight-Loss Group Meeting
DESCRIPTION:TOPS: Taking off pounds sensibly. TOPS is a non-commercial weight-loss group that focuses on realistic weight loss for real people. \nWeigh-Ins from 10 A.M. – 11 A.M. and meeting from 11 A.M. – Noon. \nFor more info\, call Jeanette Sexton at 314-808-5531
URL:https://washingtoncounty.guide/event/tops-weight-loss-group-meeting/2026-10-06/
LOCATION:Washington County Library\, 235 E. High St.\, Potosi\, MO\, 63664\, United States
CATEGORIES:Networking,Wellness
GEO:37.9342553;-90.7848932
X-APPLE-STRUCTURED-LOCATION;VALUE=URI;X-ADDRESS=Washington County Library 235 E. High St. Potosi MO 63664 United States;X-APPLE-RADIUS=500;X-TITLE=235 E. High St.:geo:-90.7848932,37.9342553
END:VEVENT
BEGIN:VEVENT
DTSTART;TZID=America/Chicago:20261013T100000
DTEND;TZID=America/Chicago:20261013T120000
DTSTAMP:20260424T183508
CREATED:20231016T141635Z
LAST-MODIFIED:20260123T155959Z
UID:10005698-1791885600-1791892800@washingtoncounty.guide
SUMMARY:TOPS Weight-Loss Group Meeting
DESCRIPTION:TOPS: Taking off pounds sensibly. TOPS is a non-commercial weight-loss group that focuses on realistic weight loss for real people. \nWeigh-Ins from 10 A.M. – 11 A.M. and meeting from 11 A.M. – Noon. \nFor more info\, call Jeanette Sexton at 314-808-5531
URL:https://washingtoncounty.guide/event/tops-weight-loss-group-meeting/2026-10-13/
LOCATION:Washington County Library\, 235 E. High St.\, Potosi\, MO\, 63664\, United States
CATEGORIES:Networking,Wellness
GEO:37.9342553;-90.7848932
X-APPLE-STRUCTURED-LOCATION;VALUE=URI;X-ADDRESS=Washington County Library 235 E. High St. Potosi MO 63664 United States;X-APPLE-RADIUS=500;X-TITLE=235 E. High St.:geo:-90.7848932,37.9342553
END:VEVENT
BEGIN:VEVENT
DTSTART;TZID=America/Chicago:20261013T183000
DTEND;TZID=America/Chicago:20261013T183000
DTSTAMP:20260424T183508
CREATED:20240423T000052Z
LAST-MODIFIED:20260123T155357Z
UID:10009192-1791916200-1791916200@washingtoncounty.guide
SUMMARY:Washington County Garden Club Meeting
DESCRIPTION:Meetings every second Tuesday at 6:30 P.M at the Washington County Library.
URL:https://washingtoncounty.guide/event/washington-county-garden-club-meeting/2026-10-13/
LOCATION:Washington County Library\, 235 E. High St.\, Potosi\, MO\, 63664\, United States
CATEGORIES:Informational,Networking,Showcase
GEO:37.9342553;-90.7848932
X-APPLE-STRUCTURED-LOCATION;VALUE=URI;X-ADDRESS=Washington County Library 235 E. High St. Potosi MO 63664 United States;X-APPLE-RADIUS=500;X-TITLE=235 E. High St.:geo:-90.7848932,37.9342553
END:VEVENT
BEGIN:VEVENT
DTSTART;TZID=America/Chicago:20261020T100000
DTEND;TZID=America/Chicago:20261020T120000
DTSTAMP:20260424T183508
CREATED:20231016T141635Z
LAST-MODIFIED:20260123T155959Z
UID:10005699-1792490400-1792497600@washingtoncounty.guide
SUMMARY:TOPS Weight-Loss Group Meeting
DESCRIPTION:TOPS: Taking off pounds sensibly. TOPS is a non-commercial weight-loss group that focuses on realistic weight loss for real people. \nWeigh-Ins from 10 A.M. – 11 A.M. and meeting from 11 A.M. – Noon. \nFor more info\, call Jeanette Sexton at 314-808-5531
URL:https://washingtoncounty.guide/event/tops-weight-loss-group-meeting/2026-10-20/
LOCATION:Washington County Library\, 235 E. High St.\, Potosi\, MO\, 63664\, United States
CATEGORIES:Networking,Wellness
GEO:37.9342553;-90.7848932
X-APPLE-STRUCTURED-LOCATION;VALUE=URI;X-ADDRESS=Washington County Library 235 E. High St. Potosi MO 63664 United States;X-APPLE-RADIUS=500;X-TITLE=235 E. High St.:geo:-90.7848932,37.9342553
END:VEVENT
BEGIN:VEVENT
DTSTART;TZID=America/Chicago:20261027T100000
DTEND;TZID=America/Chicago:20261027T120000
DTSTAMP:20260424T183508
CREATED:20231016T141635Z
LAST-MODIFIED:20260123T155959Z
UID:10005700-1793095200-1793102400@washingtoncounty.guide
SUMMARY:TOPS Weight-Loss Group Meeting
DESCRIPTION:TOPS: Taking off pounds sensibly. TOPS is a non-commercial weight-loss group that focuses on realistic weight loss for real people. \nWeigh-Ins from 10 A.M. – 11 A.M. and meeting from 11 A.M. – Noon. \nFor more info\, call Jeanette Sexton at 314-808-5531
URL:https://washingtoncounty.guide/event/tops-weight-loss-group-meeting/2026-10-27/
LOCATION:Washington County Library\, 235 E. High St.\, Potosi\, MO\, 63664\, United States
CATEGORIES:Networking,Wellness
GEO:37.9342553;-90.7848932
X-APPLE-STRUCTURED-LOCATION;VALUE=URI;X-ADDRESS=Washington County Library 235 E. High St. Potosi MO 63664 United States;X-APPLE-RADIUS=500;X-TITLE=235 E. High St.:geo:-90.7848932,37.9342553
END:VEVENT
BEGIN:VEVENT
DTSTART;TZID=America/Chicago:20261103T083000
DTEND;TZID=America/Chicago:20261103T083000
DTSTAMP:20260424T183508
CREATED:20231212T151419Z
LAST-MODIFIED:20231212T151419Z
UID:10007369-1793694600-1793694600@washingtoncounty.guide
SUMMARY:Washington County IDA Board meeting
DESCRIPTION:Contact organizer for more information.
URL:https://washingtoncounty.guide/event/washington-county-ida-board-meeting/2026-11-03/
LOCATION:Washington County IDA Office\, 501 E High St.\, Potosi\, MO\, 63664\, United States
CATEGORIES:Adults,Informational,Networking
ORGANIZER;CN="Washington County IDA":MAILTO:contact@washingtoncomo.com
GEO:37.9317747;-90.7805093
X-APPLE-STRUCTURED-LOCATION;VALUE=URI;X-ADDRESS=Washington County IDA Office 501 E High St. Potosi MO 63664 United States;X-APPLE-RADIUS=500;X-TITLE=501 E High St.:geo:-90.7805093,37.9317747
END:VEVENT
BEGIN:VEVENT
DTSTART;TZID=America/Chicago:20261103T100000
DTEND;TZID=America/Chicago:20261103T120000
DTSTAMP:20260424T183508
CREATED:20231016T141635Z
LAST-MODIFIED:20260123T155959Z
UID:10005701-1793700000-1793707200@washingtoncounty.guide
SUMMARY:TOPS Weight-Loss Group Meeting
DESCRIPTION:TOPS: Taking off pounds sensibly. TOPS is a non-commercial weight-loss group that focuses on realistic weight loss for real people. \nWeigh-Ins from 10 A.M. – 11 A.M. and meeting from 11 A.M. – Noon. \nFor more info\, call Jeanette Sexton at 314-808-5531
URL:https://washingtoncounty.guide/event/tops-weight-loss-group-meeting/2026-11-03/
LOCATION:Washington County Library\, 235 E. High St.\, Potosi\, MO\, 63664\, United States
CATEGORIES:Networking,Wellness
GEO:37.9342553;-90.7848932
X-APPLE-STRUCTURED-LOCATION;VALUE=URI;X-ADDRESS=Washington County Library 235 E. High St. Potosi MO 63664 United States;X-APPLE-RADIUS=500;X-TITLE=235 E. High St.:geo:-90.7848932,37.9342553
END:VEVENT
BEGIN:VEVENT
DTSTART;TZID=America/Chicago:20261110T100000
DTEND;TZID=America/Chicago:20261110T120000
DTSTAMP:20260424T183508
CREATED:20231016T141635Z
LAST-MODIFIED:20260123T155959Z
UID:10005702-1794304800-1794312000@washingtoncounty.guide
SUMMARY:TOPS Weight-Loss Group Meeting
DESCRIPTION:TOPS: Taking off pounds sensibly. TOPS is a non-commercial weight-loss group that focuses on realistic weight loss for real people. \nWeigh-Ins from 10 A.M. – 11 A.M. and meeting from 11 A.M. – Noon. \nFor more info\, call Jeanette Sexton at 314-808-5531
URL:https://washingtoncounty.guide/event/tops-weight-loss-group-meeting/2026-11-10/
LOCATION:Washington County Library\, 235 E. High St.\, Potosi\, MO\, 63664\, United States
CATEGORIES:Networking,Wellness
GEO:37.9342553;-90.7848932
X-APPLE-STRUCTURED-LOCATION;VALUE=URI;X-ADDRESS=Washington County Library 235 E. High St. Potosi MO 63664 United States;X-APPLE-RADIUS=500;X-TITLE=235 E. High St.:geo:-90.7848932,37.9342553
END:VEVENT
END:VCALENDAR