BEGIN:VCALENDAR
VERSION:2.0
PRODID:-//Washington County Guide - ECPv6.15.17.1//NONSGML v1.0//EN
CALSCALE:GREGORIAN
METHOD:PUBLISH
X-ORIGINAL-URL:https://washingtoncounty.guide
X-WR-CALDESC:Events for Washington County Guide
REFRESH-INTERVAL;VALUE=DURATION:PT1H
X-Robots-Tag:noindex
X-PUBLISHED-TTL:PT1H
BEGIN:VTIMEZONE
TZID:America/Chicago
BEGIN:DAYLIGHT
TZOFFSETFROM:-0600
TZOFFSETTO:-0500
TZNAME:CDT
DTSTART:20250309T080000
END:DAYLIGHT
BEGIN:STANDARD
TZOFFSETFROM:-0500
TZOFFSETTO:-0600
TZNAME:CST
DTSTART:20251102T070000
END:STANDARD
BEGIN:DAYLIGHT
TZOFFSETFROM:-0600
TZOFFSETTO:-0500
TZNAME:CDT
DTSTART:20260308T080000
END:DAYLIGHT
BEGIN:STANDARD
TZOFFSETFROM:-0500
TZOFFSETTO:-0600
TZNAME:CST
DTSTART:20261101T070000
END:STANDARD
BEGIN:DAYLIGHT
TZOFFSETFROM:-0600
TZOFFSETTO:-0500
TZNAME:CDT
DTSTART:20270314T080000
END:DAYLIGHT
BEGIN:STANDARD
TZOFFSETFROM:-0500
TZOFFSETTO:-0600
TZNAME:CST
DTSTART:20271107T070000
END:STANDARD
BEGIN:DAYLIGHT
TZOFFSETFROM:-0600
TZOFFSETTO:-0500
TZNAME:CDT
DTSTART:20280312T080000
END:DAYLIGHT
BEGIN:STANDARD
TZOFFSETFROM:-0500
TZOFFSETTO:-0600
TZNAME:CST
DTSTART:20281105T070000
END:STANDARD
BEGIN:DAYLIGHT
TZOFFSETFROM:-0600
TZOFFSETTO:-0500
TZNAME:CDT
DTSTART:20290311T080000
END:DAYLIGHT
BEGIN:STANDARD
TZOFFSETFROM:-0500
TZOFFSETTO:-0600
TZNAME:CST
DTSTART:20291104T070000
END:STANDARD
END:VTIMEZONE
BEGIN:VEVENT
DTSTART;TZID=America/Chicago:20260514T190000
DTEND;TZID=America/Chicago:20260514T190000
DTSTAMP:20260423T074223
CREATED:20240205T152931Z
LAST-MODIFIED:20240205T152931Z
UID:10007885-1778785200-1778785200@washingtoncounty.guide
SUMMARY:Irondale Fire Board Meeting
DESCRIPTION:
URL:https://washingtoncounty.guide/event/irondale-fire-board-meeting/2026-05-14/
LOCATION:Irondale Fire Protection District\, 203 S Oak St\, Irondale\, 63648\, United States
CATEGORIES:Community Development
ORGANIZER;CN="Irondale Fire Protection District":MAILTO:ifpd6800@gmail.com
GEO:37.8321642;-90.6781571
X-APPLE-STRUCTURED-LOCATION;VALUE=URI;X-ADDRESS=Irondale Fire Protection District 203 S Oak St Irondale 63648 United States;X-APPLE-RADIUS=500;X-TITLE=203 S Oak St:geo:-90.6781571,37.8321642
END:VEVENT
BEGIN:VEVENT
DTSTART;TZID=America/Chicago:20260611T190000
DTEND;TZID=America/Chicago:20260611T190000
DTSTAMP:20260423T074223
CREATED:20240205T152931Z
LAST-MODIFIED:20240205T152931Z
UID:10007886-1781204400-1781204400@washingtoncounty.guide
SUMMARY:Irondale Fire Board Meeting
DESCRIPTION:
URL:https://washingtoncounty.guide/event/irondale-fire-board-meeting/2026-06-11/
LOCATION:Irondale Fire Protection District\, 203 S Oak St\, Irondale\, 63648\, United States
CATEGORIES:Community Development
ORGANIZER;CN="Irondale Fire Protection District":MAILTO:ifpd6800@gmail.com
GEO:37.8321642;-90.6781571
X-APPLE-STRUCTURED-LOCATION;VALUE=URI;X-ADDRESS=Irondale Fire Protection District 203 S Oak St Irondale 63648 United States;X-APPLE-RADIUS=500;X-TITLE=203 S Oak St:geo:-90.6781571,37.8321642
END:VEVENT
BEGIN:VEVENT
DTSTART;TZID=America/Chicago:20260709T190000
DTEND;TZID=America/Chicago:20260709T190000
DTSTAMP:20260423T074223
CREATED:20240205T152931Z
LAST-MODIFIED:20240205T152931Z
UID:10007887-1783623600-1783623600@washingtoncounty.guide
SUMMARY:Irondale Fire Board Meeting
DESCRIPTION:
URL:https://washingtoncounty.guide/event/irondale-fire-board-meeting/2026-07-09/
LOCATION:Irondale Fire Protection District\, 203 S Oak St\, Irondale\, 63648\, United States
CATEGORIES:Community Development
ORGANIZER;CN="Irondale Fire Protection District":MAILTO:ifpd6800@gmail.com
GEO:37.8321642;-90.6781571
X-APPLE-STRUCTURED-LOCATION;VALUE=URI;X-ADDRESS=Irondale Fire Protection District 203 S Oak St Irondale 63648 United States;X-APPLE-RADIUS=500;X-TITLE=203 S Oak St:geo:-90.6781571,37.8321642
END:VEVENT
BEGIN:VEVENT
DTSTART;TZID=America/Chicago:20260813T190000
DTEND;TZID=America/Chicago:20260813T190000
DTSTAMP:20260423T074223
CREATED:20240205T152931Z
LAST-MODIFIED:20240205T152931Z
UID:10007888-1786647600-1786647600@washingtoncounty.guide
SUMMARY:Irondale Fire Board Meeting
DESCRIPTION:
URL:https://washingtoncounty.guide/event/irondale-fire-board-meeting/2026-08-13/
LOCATION:Irondale Fire Protection District\, 203 S Oak St\, Irondale\, 63648\, United States
CATEGORIES:Community Development
ORGANIZER;CN="Irondale Fire Protection District":MAILTO:ifpd6800@gmail.com
GEO:37.8321642;-90.6781571
X-APPLE-STRUCTURED-LOCATION;VALUE=URI;X-ADDRESS=Irondale Fire Protection District 203 S Oak St Irondale 63648 United States;X-APPLE-RADIUS=500;X-TITLE=203 S Oak St:geo:-90.6781571,37.8321642
END:VEVENT
BEGIN:VEVENT
DTSTART;TZID=America/Chicago:20260910T190000
DTEND;TZID=America/Chicago:20260910T190000
DTSTAMP:20260423T074223
CREATED:20240205T152931Z
LAST-MODIFIED:20240205T152931Z
UID:10007889-1789066800-1789066800@washingtoncounty.guide
SUMMARY:Irondale Fire Board Meeting
DESCRIPTION:
URL:https://washingtoncounty.guide/event/irondale-fire-board-meeting/2026-09-10/
LOCATION:Irondale Fire Protection District\, 203 S Oak St\, Irondale\, 63648\, United States
CATEGORIES:Community Development
ORGANIZER;CN="Irondale Fire Protection District":MAILTO:ifpd6800@gmail.com
GEO:37.8321642;-90.6781571
X-APPLE-STRUCTURED-LOCATION;VALUE=URI;X-ADDRESS=Irondale Fire Protection District 203 S Oak St Irondale 63648 United States;X-APPLE-RADIUS=500;X-TITLE=203 S Oak St:geo:-90.6781571,37.8321642
END:VEVENT
BEGIN:VEVENT
DTSTART;TZID=America/Chicago:20261008T190000
DTEND;TZID=America/Chicago:20261008T190000
DTSTAMP:20260423T074223
CREATED:20240205T152931Z
LAST-MODIFIED:20240205T152931Z
UID:10007890-1791486000-1791486000@washingtoncounty.guide
SUMMARY:Irondale Fire Board Meeting
DESCRIPTION:
URL:https://washingtoncounty.guide/event/irondale-fire-board-meeting/2026-10-08/
LOCATION:Irondale Fire Protection District\, 203 S Oak St\, Irondale\, 63648\, United States
CATEGORIES:Community Development
ORGANIZER;CN="Irondale Fire Protection District":MAILTO:ifpd6800@gmail.com
GEO:37.8321642;-90.6781571
X-APPLE-STRUCTURED-LOCATION;VALUE=URI;X-ADDRESS=Irondale Fire Protection District 203 S Oak St Irondale 63648 United States;X-APPLE-RADIUS=500;X-TITLE=203 S Oak St:geo:-90.6781571,37.8321642
END:VEVENT
BEGIN:VEVENT
DTSTART;TZID=America/Chicago:20261112T190000
DTEND;TZID=America/Chicago:20261112T190000
DTSTAMP:20260423T074223
CREATED:20240205T152931Z
LAST-MODIFIED:20240205T152931Z
UID:10007891-1794510000-1794510000@washingtoncounty.guide
SUMMARY:Irondale Fire Board Meeting
DESCRIPTION:
URL:https://washingtoncounty.guide/event/irondale-fire-board-meeting/2026-11-12/
LOCATION:Irondale Fire Protection District\, 203 S Oak St\, Irondale\, 63648\, United States
CATEGORIES:Community Development
ORGANIZER;CN="Irondale Fire Protection District":MAILTO:ifpd6800@gmail.com
GEO:37.8321642;-90.6781571
X-APPLE-STRUCTURED-LOCATION;VALUE=URI;X-ADDRESS=Irondale Fire Protection District 203 S Oak St Irondale 63648 United States;X-APPLE-RADIUS=500;X-TITLE=203 S Oak St:geo:-90.6781571,37.8321642
END:VEVENT
BEGIN:VEVENT
DTSTART;TZID=America/Chicago:20261210T190000
DTEND;TZID=America/Chicago:20261210T190000
DTSTAMP:20260423T074223
CREATED:20240205T152931Z
LAST-MODIFIED:20240205T152931Z
UID:10007892-1796929200-1796929200@washingtoncounty.guide
SUMMARY:Irondale Fire Board Meeting
DESCRIPTION:
URL:https://washingtoncounty.guide/event/irondale-fire-board-meeting/2026-12-10/
LOCATION:Irondale Fire Protection District\, 203 S Oak St\, Irondale\, 63648\, United States
CATEGORIES:Community Development
ORGANIZER;CN="Irondale Fire Protection District":MAILTO:ifpd6800@gmail.com
GEO:37.8321642;-90.6781571
X-APPLE-STRUCTURED-LOCATION;VALUE=URI;X-ADDRESS=Irondale Fire Protection District 203 S Oak St Irondale 63648 United States;X-APPLE-RADIUS=500;X-TITLE=203 S Oak St:geo:-90.6781571,37.8321642
END:VEVENT
BEGIN:VEVENT
DTSTART;TZID=America/Chicago:20270114T190000
DTEND;TZID=America/Chicago:20270114T190000
DTSTAMP:20260423T074223
CREATED:20240205T152931Z
LAST-MODIFIED:20240205T152931Z
UID:10007893-1799953200-1799953200@washingtoncounty.guide
SUMMARY:Irondale Fire Board Meeting
DESCRIPTION:
URL:https://washingtoncounty.guide/event/irondale-fire-board-meeting/2027-01-14/
LOCATION:Irondale Fire Protection District\, 203 S Oak St\, Irondale\, 63648\, United States
CATEGORIES:Community Development
ORGANIZER;CN="Irondale Fire Protection District":MAILTO:ifpd6800@gmail.com
GEO:37.8321642;-90.6781571
X-APPLE-STRUCTURED-LOCATION;VALUE=URI;X-ADDRESS=Irondale Fire Protection District 203 S Oak St Irondale 63648 United States;X-APPLE-RADIUS=500;X-TITLE=203 S Oak St:geo:-90.6781571,37.8321642
END:VEVENT
BEGIN:VEVENT
DTSTART;TZID=America/Chicago:20270211T190000
DTEND;TZID=America/Chicago:20270211T190000
DTSTAMP:20260423T074223
CREATED:20240205T152931Z
LAST-MODIFIED:20240205T152931Z
UID:10007894-1802372400-1802372400@washingtoncounty.guide
SUMMARY:Irondale Fire Board Meeting
DESCRIPTION:
URL:https://washingtoncounty.guide/event/irondale-fire-board-meeting/2027-02-11/
LOCATION:Irondale Fire Protection District\, 203 S Oak St\, Irondale\, 63648\, United States
CATEGORIES:Community Development
ORGANIZER;CN="Irondale Fire Protection District":MAILTO:ifpd6800@gmail.com
GEO:37.8321642;-90.6781571
X-APPLE-STRUCTURED-LOCATION;VALUE=URI;X-ADDRESS=Irondale Fire Protection District 203 S Oak St Irondale 63648 United States;X-APPLE-RADIUS=500;X-TITLE=203 S Oak St:geo:-90.6781571,37.8321642
END:VEVENT
BEGIN:VEVENT
DTSTART;TZID=America/Chicago:20270311T190000
DTEND;TZID=America/Chicago:20270311T190000
DTSTAMP:20260423T074223
CREATED:20240205T152931Z
LAST-MODIFIED:20240205T152931Z
UID:10007895-1804791600-1804791600@washingtoncounty.guide
SUMMARY:Irondale Fire Board Meeting
DESCRIPTION:
URL:https://washingtoncounty.guide/event/irondale-fire-board-meeting/2027-03-11/
LOCATION:Irondale Fire Protection District\, 203 S Oak St\, Irondale\, 63648\, United States
CATEGORIES:Community Development
ORGANIZER;CN="Irondale Fire Protection District":MAILTO:ifpd6800@gmail.com
GEO:37.8321642;-90.6781571
X-APPLE-STRUCTURED-LOCATION;VALUE=URI;X-ADDRESS=Irondale Fire Protection District 203 S Oak St Irondale 63648 United States;X-APPLE-RADIUS=500;X-TITLE=203 S Oak St:geo:-90.6781571,37.8321642
END:VEVENT
BEGIN:VEVENT
DTSTART;TZID=America/Chicago:20270408T190000
DTEND;TZID=America/Chicago:20270408T190000
DTSTAMP:20260423T074223
CREATED:20240205T152931Z
LAST-MODIFIED:20240205T152931Z
UID:10007896-1807210800-1807210800@washingtoncounty.guide
SUMMARY:Irondale Fire Board Meeting
DESCRIPTION:
URL:https://washingtoncounty.guide/event/irondale-fire-board-meeting/2027-04-08/
LOCATION:Irondale Fire Protection District\, 203 S Oak St\, Irondale\, 63648\, United States
CATEGORIES:Community Development
ORGANIZER;CN="Irondale Fire Protection District":MAILTO:ifpd6800@gmail.com
GEO:37.8321642;-90.6781571
X-APPLE-STRUCTURED-LOCATION;VALUE=URI;X-ADDRESS=Irondale Fire Protection District 203 S Oak St Irondale 63648 United States;X-APPLE-RADIUS=500;X-TITLE=203 S Oak St:geo:-90.6781571,37.8321642
END:VEVENT
BEGIN:VEVENT
DTSTART;TZID=America/Chicago:20270513T190000
DTEND;TZID=America/Chicago:20270513T190000
DTSTAMP:20260423T074223
CREATED:20240205T152931Z
LAST-MODIFIED:20240205T152931Z
UID:10007897-1810234800-1810234800@washingtoncounty.guide
SUMMARY:Irondale Fire Board Meeting
DESCRIPTION:
URL:https://washingtoncounty.guide/event/irondale-fire-board-meeting/2027-05-13/
LOCATION:Irondale Fire Protection District\, 203 S Oak St\, Irondale\, 63648\, United States
CATEGORIES:Community Development
ORGANIZER;CN="Irondale Fire Protection District":MAILTO:ifpd6800@gmail.com
GEO:37.8321642;-90.6781571
X-APPLE-STRUCTURED-LOCATION;VALUE=URI;X-ADDRESS=Irondale Fire Protection District 203 S Oak St Irondale 63648 United States;X-APPLE-RADIUS=500;X-TITLE=203 S Oak St:geo:-90.6781571,37.8321642
END:VEVENT
BEGIN:VEVENT
DTSTART;TZID=America/Chicago:20270610T190000
DTEND;TZID=America/Chicago:20270610T190000
DTSTAMP:20260423T074223
CREATED:20240205T152931Z
LAST-MODIFIED:20240205T152931Z
UID:10007898-1812654000-1812654000@washingtoncounty.guide
SUMMARY:Irondale Fire Board Meeting
DESCRIPTION:
URL:https://washingtoncounty.guide/event/irondale-fire-board-meeting/2027-06-10/
LOCATION:Irondale Fire Protection District\, 203 S Oak St\, Irondale\, 63648\, United States
CATEGORIES:Community Development
ORGANIZER;CN="Irondale Fire Protection District":MAILTO:ifpd6800@gmail.com
GEO:37.8321642;-90.6781571
X-APPLE-STRUCTURED-LOCATION;VALUE=URI;X-ADDRESS=Irondale Fire Protection District 203 S Oak St Irondale 63648 United States;X-APPLE-RADIUS=500;X-TITLE=203 S Oak St:geo:-90.6781571,37.8321642
END:VEVENT
BEGIN:VEVENT
DTSTART;TZID=America/Chicago:20270708T190000
DTEND;TZID=America/Chicago:20270708T190000
DTSTAMP:20260423T074223
CREATED:20240205T152931Z
LAST-MODIFIED:20240205T152931Z
UID:10007899-1815073200-1815073200@washingtoncounty.guide
SUMMARY:Irondale Fire Board Meeting
DESCRIPTION:
URL:https://washingtoncounty.guide/event/irondale-fire-board-meeting/2027-07-08/
LOCATION:Irondale Fire Protection District\, 203 S Oak St\, Irondale\, 63648\, United States
CATEGORIES:Community Development
ORGANIZER;CN="Irondale Fire Protection District":MAILTO:ifpd6800@gmail.com
GEO:37.8321642;-90.6781571
X-APPLE-STRUCTURED-LOCATION;VALUE=URI;X-ADDRESS=Irondale Fire Protection District 203 S Oak St Irondale 63648 United States;X-APPLE-RADIUS=500;X-TITLE=203 S Oak St:geo:-90.6781571,37.8321642
END:VEVENT
BEGIN:VEVENT
DTSTART;TZID=America/Chicago:20270812T190000
DTEND;TZID=America/Chicago:20270812T190000
DTSTAMP:20260423T074223
CREATED:20240205T152931Z
LAST-MODIFIED:20240205T152931Z
UID:10007900-1818097200-1818097200@washingtoncounty.guide
SUMMARY:Irondale Fire Board Meeting
DESCRIPTION:
URL:https://washingtoncounty.guide/event/irondale-fire-board-meeting/2027-08-12/
LOCATION:Irondale Fire Protection District\, 203 S Oak St\, Irondale\, 63648\, United States
CATEGORIES:Community Development
ORGANIZER;CN="Irondale Fire Protection District":MAILTO:ifpd6800@gmail.com
GEO:37.8321642;-90.6781571
X-APPLE-STRUCTURED-LOCATION;VALUE=URI;X-ADDRESS=Irondale Fire Protection District 203 S Oak St Irondale 63648 United States;X-APPLE-RADIUS=500;X-TITLE=203 S Oak St:geo:-90.6781571,37.8321642
END:VEVENT
BEGIN:VEVENT
DTSTART;TZID=America/Chicago:20270909T190000
DTEND;TZID=America/Chicago:20270909T190000
DTSTAMP:20260423T074223
CREATED:20240205T152931Z
LAST-MODIFIED:20240205T152931Z
UID:10007901-1820516400-1820516400@washingtoncounty.guide
SUMMARY:Irondale Fire Board Meeting
DESCRIPTION:
URL:https://washingtoncounty.guide/event/irondale-fire-board-meeting/2027-09-09/
LOCATION:Irondale Fire Protection District\, 203 S Oak St\, Irondale\, 63648\, United States
CATEGORIES:Community Development
ORGANIZER;CN="Irondale Fire Protection District":MAILTO:ifpd6800@gmail.com
GEO:37.8321642;-90.6781571
X-APPLE-STRUCTURED-LOCATION;VALUE=URI;X-ADDRESS=Irondale Fire Protection District 203 S Oak St Irondale 63648 United States;X-APPLE-RADIUS=500;X-TITLE=203 S Oak St:geo:-90.6781571,37.8321642
END:VEVENT
BEGIN:VEVENT
DTSTART;TZID=America/Chicago:20271014T190000
DTEND;TZID=America/Chicago:20271014T190000
DTSTAMP:20260423T074223
CREATED:20240205T152931Z
LAST-MODIFIED:20240205T152931Z
UID:10007902-1823540400-1823540400@washingtoncounty.guide
SUMMARY:Irondale Fire Board Meeting
DESCRIPTION:
URL:https://washingtoncounty.guide/event/irondale-fire-board-meeting/2027-10-14/
LOCATION:Irondale Fire Protection District\, 203 S Oak St\, Irondale\, 63648\, United States
CATEGORIES:Community Development
ORGANIZER;CN="Irondale Fire Protection District":MAILTO:ifpd6800@gmail.com
GEO:37.8321642;-90.6781571
X-APPLE-STRUCTURED-LOCATION;VALUE=URI;X-ADDRESS=Irondale Fire Protection District 203 S Oak St Irondale 63648 United States;X-APPLE-RADIUS=500;X-TITLE=203 S Oak St:geo:-90.6781571,37.8321642
END:VEVENT
BEGIN:VEVENT
DTSTART;TZID=America/Chicago:20271111T190000
DTEND;TZID=America/Chicago:20271111T190000
DTSTAMP:20260423T074223
CREATED:20240205T152931Z
LAST-MODIFIED:20240205T152931Z
UID:10007903-1825959600-1825959600@washingtoncounty.guide
SUMMARY:Irondale Fire Board Meeting
DESCRIPTION:
URL:https://washingtoncounty.guide/event/irondale-fire-board-meeting/2027-11-11/
LOCATION:Irondale Fire Protection District\, 203 S Oak St\, Irondale\, 63648\, United States
CATEGORIES:Community Development
ORGANIZER;CN="Irondale Fire Protection District":MAILTO:ifpd6800@gmail.com
GEO:37.8321642;-90.6781571
X-APPLE-STRUCTURED-LOCATION;VALUE=URI;X-ADDRESS=Irondale Fire Protection District 203 S Oak St Irondale 63648 United States;X-APPLE-RADIUS=500;X-TITLE=203 S Oak St:geo:-90.6781571,37.8321642
END:VEVENT
BEGIN:VEVENT
DTSTART;TZID=America/Chicago:20271209T190000
DTEND;TZID=America/Chicago:20271209T190000
DTSTAMP:20260423T074223
CREATED:20240205T152931Z
LAST-MODIFIED:20240205T152931Z
UID:10007904-1828378800-1828378800@washingtoncounty.guide
SUMMARY:Irondale Fire Board Meeting
DESCRIPTION:
URL:https://washingtoncounty.guide/event/irondale-fire-board-meeting/2027-12-09/
LOCATION:Irondale Fire Protection District\, 203 S Oak St\, Irondale\, 63648\, United States
CATEGORIES:Community Development
ORGANIZER;CN="Irondale Fire Protection District":MAILTO:ifpd6800@gmail.com
GEO:37.8321642;-90.6781571
X-APPLE-STRUCTURED-LOCATION;VALUE=URI;X-ADDRESS=Irondale Fire Protection District 203 S Oak St Irondale 63648 United States;X-APPLE-RADIUS=500;X-TITLE=203 S Oak St:geo:-90.6781571,37.8321642
END:VEVENT
BEGIN:VEVENT
DTSTART;TZID=America/Chicago:20280113T190000
DTEND;TZID=America/Chicago:20280113T190000
DTSTAMP:20260423T074223
CREATED:20240205T152931Z
LAST-MODIFIED:20240205T152931Z
UID:10007905-1831402800-1831402800@washingtoncounty.guide
SUMMARY:Irondale Fire Board Meeting
DESCRIPTION:
URL:https://washingtoncounty.guide/event/irondale-fire-board-meeting/2028-01-13/
LOCATION:Irondale Fire Protection District\, 203 S Oak St\, Irondale\, 63648\, United States
CATEGORIES:Community Development
ORGANIZER;CN="Irondale Fire Protection District":MAILTO:ifpd6800@gmail.com
GEO:37.8321642;-90.6781571
X-APPLE-STRUCTURED-LOCATION;VALUE=URI;X-ADDRESS=Irondale Fire Protection District 203 S Oak St Irondale 63648 United States;X-APPLE-RADIUS=500;X-TITLE=203 S Oak St:geo:-90.6781571,37.8321642
END:VEVENT
BEGIN:VEVENT
DTSTART;TZID=America/Chicago:20280210T190000
DTEND;TZID=America/Chicago:20280210T190000
DTSTAMP:20260423T074223
CREATED:20240205T152931Z
LAST-MODIFIED:20240205T152931Z
UID:10007906-1833822000-1833822000@washingtoncounty.guide
SUMMARY:Irondale Fire Board Meeting
DESCRIPTION:
URL:https://washingtoncounty.guide/event/irondale-fire-board-meeting/2028-02-10/
LOCATION:Irondale Fire Protection District\, 203 S Oak St\, Irondale\, 63648\, United States
CATEGORIES:Community Development
ORGANIZER;CN="Irondale Fire Protection District":MAILTO:ifpd6800@gmail.com
GEO:37.8321642;-90.6781571
X-APPLE-STRUCTURED-LOCATION;VALUE=URI;X-ADDRESS=Irondale Fire Protection District 203 S Oak St Irondale 63648 United States;X-APPLE-RADIUS=500;X-TITLE=203 S Oak St:geo:-90.6781571,37.8321642
END:VEVENT
BEGIN:VEVENT
DTSTART;TZID=America/Chicago:20280309T190000
DTEND;TZID=America/Chicago:20280309T190000
DTSTAMP:20260423T074223
CREATED:20240205T152931Z
LAST-MODIFIED:20240205T152931Z
UID:10007907-1836241200-1836241200@washingtoncounty.guide
SUMMARY:Irondale Fire Board Meeting
DESCRIPTION:
URL:https://washingtoncounty.guide/event/irondale-fire-board-meeting/2028-03-09/
LOCATION:Irondale Fire Protection District\, 203 S Oak St\, Irondale\, 63648\, United States
CATEGORIES:Community Development
ORGANIZER;CN="Irondale Fire Protection District":MAILTO:ifpd6800@gmail.com
GEO:37.8321642;-90.6781571
X-APPLE-STRUCTURED-LOCATION;VALUE=URI;X-ADDRESS=Irondale Fire Protection District 203 S Oak St Irondale 63648 United States;X-APPLE-RADIUS=500;X-TITLE=203 S Oak St:geo:-90.6781571,37.8321642
END:VEVENT
BEGIN:VEVENT
DTSTART;TZID=America/Chicago:20280413T190000
DTEND;TZID=America/Chicago:20280413T190000
DTSTAMP:20260423T074223
CREATED:20240205T152931Z
LAST-MODIFIED:20240205T152931Z
UID:10007908-1839265200-1839265200@washingtoncounty.guide
SUMMARY:Irondale Fire Board Meeting
DESCRIPTION:
URL:https://washingtoncounty.guide/event/irondale-fire-board-meeting/2028-04-13/
LOCATION:Irondale Fire Protection District\, 203 S Oak St\, Irondale\, 63648\, United States
CATEGORIES:Community Development
ORGANIZER;CN="Irondale Fire Protection District":MAILTO:ifpd6800@gmail.com
GEO:37.8321642;-90.6781571
X-APPLE-STRUCTURED-LOCATION;VALUE=URI;X-ADDRESS=Irondale Fire Protection District 203 S Oak St Irondale 63648 United States;X-APPLE-RADIUS=500;X-TITLE=203 S Oak St:geo:-90.6781571,37.8321642
END:VEVENT
BEGIN:VEVENT
DTSTART;TZID=America/Chicago:20280511T190000
DTEND;TZID=America/Chicago:20280511T190000
DTSTAMP:20260423T074223
CREATED:20240205T152931Z
LAST-MODIFIED:20240205T152931Z
UID:10007909-1841684400-1841684400@washingtoncounty.guide
SUMMARY:Irondale Fire Board Meeting
DESCRIPTION:
URL:https://washingtoncounty.guide/event/irondale-fire-board-meeting/2028-05-11/
LOCATION:Irondale Fire Protection District\, 203 S Oak St\, Irondale\, 63648\, United States
CATEGORIES:Community Development
ORGANIZER;CN="Irondale Fire Protection District":MAILTO:ifpd6800@gmail.com
GEO:37.8321642;-90.6781571
X-APPLE-STRUCTURED-LOCATION;VALUE=URI;X-ADDRESS=Irondale Fire Protection District 203 S Oak St Irondale 63648 United States;X-APPLE-RADIUS=500;X-TITLE=203 S Oak St:geo:-90.6781571,37.8321642
END:VEVENT
BEGIN:VEVENT
DTSTART;TZID=America/Chicago:20280608T190000
DTEND;TZID=America/Chicago:20280608T190000
DTSTAMP:20260423T074223
CREATED:20240205T152931Z
LAST-MODIFIED:20240205T152931Z
UID:10007910-1844103600-1844103600@washingtoncounty.guide
SUMMARY:Irondale Fire Board Meeting
DESCRIPTION:
URL:https://washingtoncounty.guide/event/irondale-fire-board-meeting/2028-06-08/
LOCATION:Irondale Fire Protection District\, 203 S Oak St\, Irondale\, 63648\, United States
CATEGORIES:Community Development
ORGANIZER;CN="Irondale Fire Protection District":MAILTO:ifpd6800@gmail.com
GEO:37.8321642;-90.6781571
X-APPLE-STRUCTURED-LOCATION;VALUE=URI;X-ADDRESS=Irondale Fire Protection District 203 S Oak St Irondale 63648 United States;X-APPLE-RADIUS=500;X-TITLE=203 S Oak St:geo:-90.6781571,37.8321642
END:VEVENT
BEGIN:VEVENT
DTSTART;TZID=America/Chicago:20280713T190000
DTEND;TZID=America/Chicago:20280713T190000
DTSTAMP:20260423T074223
CREATED:20240205T152931Z
LAST-MODIFIED:20240205T152931Z
UID:10007911-1847127600-1847127600@washingtoncounty.guide
SUMMARY:Irondale Fire Board Meeting
DESCRIPTION:
URL:https://washingtoncounty.guide/event/irondale-fire-board-meeting/2028-07-13/
LOCATION:Irondale Fire Protection District\, 203 S Oak St\, Irondale\, 63648\, United States
CATEGORIES:Community Development
ORGANIZER;CN="Irondale Fire Protection District":MAILTO:ifpd6800@gmail.com
GEO:37.8321642;-90.6781571
X-APPLE-STRUCTURED-LOCATION;VALUE=URI;X-ADDRESS=Irondale Fire Protection District 203 S Oak St Irondale 63648 United States;X-APPLE-RADIUS=500;X-TITLE=203 S Oak St:geo:-90.6781571,37.8321642
END:VEVENT
BEGIN:VEVENT
DTSTART;TZID=America/Chicago:20280810T190000
DTEND;TZID=America/Chicago:20280810T190000
DTSTAMP:20260423T074223
CREATED:20240205T152931Z
LAST-MODIFIED:20240205T152931Z
UID:10007912-1849546800-1849546800@washingtoncounty.guide
SUMMARY:Irondale Fire Board Meeting
DESCRIPTION:
URL:https://washingtoncounty.guide/event/irondale-fire-board-meeting/2028-08-10/
LOCATION:Irondale Fire Protection District\, 203 S Oak St\, Irondale\, 63648\, United States
CATEGORIES:Community Development
ORGANIZER;CN="Irondale Fire Protection District":MAILTO:ifpd6800@gmail.com
GEO:37.8321642;-90.6781571
X-APPLE-STRUCTURED-LOCATION;VALUE=URI;X-ADDRESS=Irondale Fire Protection District 203 S Oak St Irondale 63648 United States;X-APPLE-RADIUS=500;X-TITLE=203 S Oak St:geo:-90.6781571,37.8321642
END:VEVENT
BEGIN:VEVENT
DTSTART;TZID=America/Chicago:20280914T190000
DTEND;TZID=America/Chicago:20280914T190000
DTSTAMP:20260423T074223
CREATED:20240205T152931Z
LAST-MODIFIED:20240205T152931Z
UID:10007913-1852570800-1852570800@washingtoncounty.guide
SUMMARY:Irondale Fire Board Meeting
DESCRIPTION:
URL:https://washingtoncounty.guide/event/irondale-fire-board-meeting/2028-09-14/
LOCATION:Irondale Fire Protection District\, 203 S Oak St\, Irondale\, 63648\, United States
CATEGORIES:Community Development
ORGANIZER;CN="Irondale Fire Protection District":MAILTO:ifpd6800@gmail.com
GEO:37.8321642;-90.6781571
X-APPLE-STRUCTURED-LOCATION;VALUE=URI;X-ADDRESS=Irondale Fire Protection District 203 S Oak St Irondale 63648 United States;X-APPLE-RADIUS=500;X-TITLE=203 S Oak St:geo:-90.6781571,37.8321642
END:VEVENT
BEGIN:VEVENT
DTSTART;TZID=America/Chicago:20281012T190000
DTEND;TZID=America/Chicago:20281012T190000
DTSTAMP:20260423T074223
CREATED:20240205T152931Z
LAST-MODIFIED:20240205T152931Z
UID:10007914-1854990000-1854990000@washingtoncounty.guide
SUMMARY:Irondale Fire Board Meeting
DESCRIPTION:
URL:https://washingtoncounty.guide/event/irondale-fire-board-meeting/2028-10-12/
LOCATION:Irondale Fire Protection District\, 203 S Oak St\, Irondale\, 63648\, United States
CATEGORIES:Community Development
ORGANIZER;CN="Irondale Fire Protection District":MAILTO:ifpd6800@gmail.com
GEO:37.8321642;-90.6781571
X-APPLE-STRUCTURED-LOCATION;VALUE=URI;X-ADDRESS=Irondale Fire Protection District 203 S Oak St Irondale 63648 United States;X-APPLE-RADIUS=500;X-TITLE=203 S Oak St:geo:-90.6781571,37.8321642
END:VEVENT
END:VCALENDAR