BEGIN:VCALENDAR
VERSION:2.0
PRODID:-//Washington County Guide - ECPv6.15.17.1//NONSGML v1.0//EN
CALSCALE:GREGORIAN
METHOD:PUBLISH
X-ORIGINAL-URL:https://washingtoncounty.guide
X-WR-CALDESC:Events for Washington County Guide
REFRESH-INTERVAL;VALUE=DURATION:PT1H
X-Robots-Tag:noindex
X-PUBLISHED-TTL:PT1H
BEGIN:VTIMEZONE
TZID:America/Chicago
BEGIN:DAYLIGHT
TZOFFSETFROM:-0600
TZOFFSETTO:-0500
TZNAME:CDT
DTSTART:20270314T080000
END:DAYLIGHT
BEGIN:STANDARD
TZOFFSETFROM:-0500
TZOFFSETTO:-0600
TZNAME:CST
DTSTART:20271107T070000
END:STANDARD
BEGIN:DAYLIGHT
TZOFFSETFROM:-0600
TZOFFSETTO:-0500
TZNAME:CDT
DTSTART:20280312T080000
END:DAYLIGHT
BEGIN:STANDARD
TZOFFSETFROM:-0500
TZOFFSETTO:-0600
TZNAME:CST
DTSTART:20281105T070000
END:STANDARD
BEGIN:DAYLIGHT
TZOFFSETFROM:-0600
TZOFFSETTO:-0500
TZNAME:CDT
DTSTART:20290311T080000
END:DAYLIGHT
BEGIN:STANDARD
TZOFFSETFROM:-0500
TZOFFSETTO:-0600
TZNAME:CST
DTSTART:20291104T070000
END:STANDARD
BEGIN:DAYLIGHT
TZOFFSETFROM:-0600
TZOFFSETTO:-0500
TZNAME:CDT
DTSTART:20300310T080000
END:DAYLIGHT
BEGIN:STANDARD
TZOFFSETFROM:-0500
TZOFFSETTO:-0600
TZNAME:CST
DTSTART:20301103T070000
END:STANDARD
BEGIN:DAYLIGHT
TZOFFSETFROM:-0600
TZOFFSETTO:-0500
TZNAME:CDT
DTSTART:20310309T080000
END:DAYLIGHT
BEGIN:STANDARD
TZOFFSETFROM:-0500
TZOFFSETTO:-0600
TZNAME:CST
DTSTART:20311102T070000
END:STANDARD
BEGIN:DAYLIGHT
TZOFFSETFROM:-0600
TZOFFSETTO:-0500
TZNAME:CDT
DTSTART:20320314T080000
END:DAYLIGHT
BEGIN:STANDARD
TZOFFSETFROM:-0500
TZOFFSETTO:-0600
TZNAME:CST
DTSTART:20321107T070000
END:STANDARD
END:VTIMEZONE
BEGIN:VEVENT
DTSTART;TZID=America/Chicago:20281102T153000
DTEND;TZID=America/Chicago:20281102T153000
DTSTAMP:20260423T131940
CREATED:20240205T150052Z
LAST-MODIFIED:20240205T150612Z
UID:10007734-1856791800-1856791800@washingtoncounty.guide
SUMMARY:PWSD #1 Water Board Meeting
DESCRIPTION:All meeting dates and times are subject to change. Contact organizer for more info.
URL:https://washingtoncounty.guide/event/pwsd-1-water-board-meeting/2028-11-02/
LOCATION:Washington County IDA Office\, 501 E High St.\, Potosi\, MO\, 63664\, United States
CATEGORIES:Community Development
GEO:37.9317747;-90.7805093
X-APPLE-STRUCTURED-LOCATION;VALUE=URI;X-ADDRESS=Washington County IDA Office 501 E High St. Potosi MO 63664 United States;X-APPLE-RADIUS=500;X-TITLE=501 E High St.:geo:-90.7805093,37.9317747
END:VEVENT
BEGIN:VEVENT
DTSTART;TZID=America/Chicago:20281207T153000
DTEND;TZID=America/Chicago:20281207T153000
DTSTAMP:20260423T131940
CREATED:20240205T150052Z
LAST-MODIFIED:20240205T150612Z
UID:10007735-1859815800-1859815800@washingtoncounty.guide
SUMMARY:PWSD #1 Water Board Meeting
DESCRIPTION:All meeting dates and times are subject to change. Contact organizer for more info.
URL:https://washingtoncounty.guide/event/pwsd-1-water-board-meeting/2028-12-07/
LOCATION:Washington County IDA Office\, 501 E High St.\, Potosi\, MO\, 63664\, United States
CATEGORIES:Community Development
GEO:37.9317747;-90.7805093
X-APPLE-STRUCTURED-LOCATION;VALUE=URI;X-ADDRESS=Washington County IDA Office 501 E High St. Potosi MO 63664 United States;X-APPLE-RADIUS=500;X-TITLE=501 E High St.:geo:-90.7805093,37.9317747
END:VEVENT
BEGIN:VEVENT
DTSTART;TZID=America/Chicago:20290104T153000
DTEND;TZID=America/Chicago:20290104T153000
DTSTAMP:20260423T131940
CREATED:20240205T150052Z
LAST-MODIFIED:20240205T150612Z
UID:10007736-1862235000-1862235000@washingtoncounty.guide
SUMMARY:PWSD #1 Water Board Meeting
DESCRIPTION:All meeting dates and times are subject to change. Contact organizer for more info.
URL:https://washingtoncounty.guide/event/pwsd-1-water-board-meeting/2029-01-04/
LOCATION:Washington County IDA Office\, 501 E High St.\, Potosi\, MO\, 63664\, United States
CATEGORIES:Community Development
GEO:37.9317747;-90.7805093
X-APPLE-STRUCTURED-LOCATION;VALUE=URI;X-ADDRESS=Washington County IDA Office 501 E High St. Potosi MO 63664 United States;X-APPLE-RADIUS=500;X-TITLE=501 E High St.:geo:-90.7805093,37.9317747
END:VEVENT
BEGIN:VEVENT
DTSTART;TZID=America/Chicago:20290201T153000
DTEND;TZID=America/Chicago:20290201T153000
DTSTAMP:20260423T131940
CREATED:20240205T150052Z
LAST-MODIFIED:20240205T150612Z
UID:10007737-1864654200-1864654200@washingtoncounty.guide
SUMMARY:PWSD #1 Water Board Meeting
DESCRIPTION:All meeting dates and times are subject to change. Contact organizer for more info.
URL:https://washingtoncounty.guide/event/pwsd-1-water-board-meeting/2029-02-01/
LOCATION:Washington County IDA Office\, 501 E High St.\, Potosi\, MO\, 63664\, United States
CATEGORIES:Community Development
GEO:37.9317747;-90.7805093
X-APPLE-STRUCTURED-LOCATION;VALUE=URI;X-ADDRESS=Washington County IDA Office 501 E High St. Potosi MO 63664 United States;X-APPLE-RADIUS=500;X-TITLE=501 E High St.:geo:-90.7805093,37.9317747
END:VEVENT
BEGIN:VEVENT
DTSTART;TZID=America/Chicago:20290301T153000
DTEND;TZID=America/Chicago:20290301T153000
DTSTAMP:20260423T131940
CREATED:20240205T150052Z
LAST-MODIFIED:20240205T150612Z
UID:10009008-1867073400-1867073400@washingtoncounty.guide
SUMMARY:PWSD #1 Water Board Meeting
DESCRIPTION:All meeting dates and times are subject to change. Contact organizer for more info.
URL:https://washingtoncounty.guide/event/pwsd-1-water-board-meeting/2029-03-01/
LOCATION:Washington County IDA Office\, 501 E High St.\, Potosi\, MO\, 63664\, United States
CATEGORIES:Community Development
GEO:37.9317747;-90.7805093
X-APPLE-STRUCTURED-LOCATION;VALUE=URI;X-ADDRESS=Washington County IDA Office 501 E High St. Potosi MO 63664 United States;X-APPLE-RADIUS=500;X-TITLE=501 E High St.:geo:-90.7805093,37.9317747
END:VEVENT
BEGIN:VEVENT
DTSTART;TZID=America/Chicago:20290405T153000
DTEND;TZID=America/Chicago:20290405T153000
DTSTAMP:20260423T131940
CREATED:20240205T150052Z
LAST-MODIFIED:20240205T150612Z
UID:10009126-1870097400-1870097400@washingtoncounty.guide
SUMMARY:PWSD #1 Water Board Meeting
DESCRIPTION:All meeting dates and times are subject to change. Contact organizer for more info.
URL:https://washingtoncounty.guide/event/pwsd-1-water-board-meeting/2029-04-05/
LOCATION:Washington County IDA Office\, 501 E High St.\, Potosi\, MO\, 63664\, United States
CATEGORIES:Community Development
GEO:37.9317747;-90.7805093
X-APPLE-STRUCTURED-LOCATION;VALUE=URI;X-ADDRESS=Washington County IDA Office 501 E High St. Potosi MO 63664 United States;X-APPLE-RADIUS=500;X-TITLE=501 E High St.:geo:-90.7805093,37.9317747
END:VEVENT
BEGIN:VEVENT
DTSTART;TZID=America/Chicago:20290503T153000
DTEND;TZID=America/Chicago:20290503T153000
DTSTAMP:20260423T131940
CREATED:20240205T150052Z
LAST-MODIFIED:20240205T150612Z
UID:10009250-1872516600-1872516600@washingtoncounty.guide
SUMMARY:PWSD #1 Water Board Meeting
DESCRIPTION:All meeting dates and times are subject to change. Contact organizer for more info.
URL:https://washingtoncounty.guide/event/pwsd-1-water-board-meeting/2029-05-03/
LOCATION:Washington County IDA Office\, 501 E High St.\, Potosi\, MO\, 63664\, United States
CATEGORIES:Community Development
GEO:37.9317747;-90.7805093
X-APPLE-STRUCTURED-LOCATION;VALUE=URI;X-ADDRESS=Washington County IDA Office 501 E High St. Potosi MO 63664 United States;X-APPLE-RADIUS=500;X-TITLE=501 E High St.:geo:-90.7805093,37.9317747
END:VEVENT
BEGIN:VEVENT
DTSTART;TZID=America/Chicago:20290607T153000
DTEND;TZID=America/Chicago:20290607T153000
DTSTAMP:20260423T131940
CREATED:20240205T150052Z
LAST-MODIFIED:20240205T150612Z
UID:10009400-1875540600-1875540600@washingtoncounty.guide
SUMMARY:PWSD #1 Water Board Meeting
DESCRIPTION:All meeting dates and times are subject to change. Contact organizer for more info.
URL:https://washingtoncounty.guide/event/pwsd-1-water-board-meeting/2029-06-07/
LOCATION:Washington County IDA Office\, 501 E High St.\, Potosi\, MO\, 63664\, United States
CATEGORIES:Community Development
GEO:37.9317747;-90.7805093
X-APPLE-STRUCTURED-LOCATION;VALUE=URI;X-ADDRESS=Washington County IDA Office 501 E High St. Potosi MO 63664 United States;X-APPLE-RADIUS=500;X-TITLE=501 E High St.:geo:-90.7805093,37.9317747
END:VEVENT
BEGIN:VEVENT
DTSTART;TZID=America/Chicago:20290705T153000
DTEND;TZID=America/Chicago:20290705T153000
DTSTAMP:20260423T131940
CREATED:20240205T150052Z
LAST-MODIFIED:20240205T150612Z
UID:10009401-1877959800-1877959800@washingtoncounty.guide
SUMMARY:PWSD #1 Water Board Meeting
DESCRIPTION:All meeting dates and times are subject to change. Contact organizer for more info.
URL:https://washingtoncounty.guide/event/pwsd-1-water-board-meeting/2029-07-05/
LOCATION:Washington County IDA Office\, 501 E High St.\, Potosi\, MO\, 63664\, United States
CATEGORIES:Community Development
GEO:37.9317747;-90.7805093
X-APPLE-STRUCTURED-LOCATION;VALUE=URI;X-ADDRESS=Washington County IDA Office 501 E High St. Potosi MO 63664 United States;X-APPLE-RADIUS=500;X-TITLE=501 E High St.:geo:-90.7805093,37.9317747
END:VEVENT
BEGIN:VEVENT
DTSTART;TZID=America/Chicago:20290802T153000
DTEND;TZID=America/Chicago:20290802T153000
DTSTAMP:20260423T131940
CREATED:20240205T150052Z
LAST-MODIFIED:20240205T150612Z
UID:10009465-1880379000-1880379000@washingtoncounty.guide
SUMMARY:PWSD #1 Water Board Meeting
DESCRIPTION:All meeting dates and times are subject to change. Contact organizer for more info.
URL:https://washingtoncounty.guide/event/pwsd-1-water-board-meeting/2029-08-02/
LOCATION:Washington County IDA Office\, 501 E High St.\, Potosi\, MO\, 63664\, United States
CATEGORIES:Community Development
GEO:37.9317747;-90.7805093
X-APPLE-STRUCTURED-LOCATION;VALUE=URI;X-ADDRESS=Washington County IDA Office 501 E High St. Potosi MO 63664 United States;X-APPLE-RADIUS=500;X-TITLE=501 E High St.:geo:-90.7805093,37.9317747
END:VEVENT
BEGIN:VEVENT
DTSTART;TZID=America/Chicago:20290906T153000
DTEND;TZID=America/Chicago:20290906T153000
DTSTAMP:20260423T131940
CREATED:20240205T150052Z
LAST-MODIFIED:20240205T150612Z
UID:10009589-1883403000-1883403000@washingtoncounty.guide
SUMMARY:PWSD #1 Water Board Meeting
DESCRIPTION:All meeting dates and times are subject to change. Contact organizer for more info.
URL:https://washingtoncounty.guide/event/pwsd-1-water-board-meeting/2029-09-06/
LOCATION:Washington County IDA Office\, 501 E High St.\, Potosi\, MO\, 63664\, United States
CATEGORIES:Community Development
GEO:37.9317747;-90.7805093
X-APPLE-STRUCTURED-LOCATION;VALUE=URI;X-ADDRESS=Washington County IDA Office 501 E High St. Potosi MO 63664 United States;X-APPLE-RADIUS=500;X-TITLE=501 E High St.:geo:-90.7805093,37.9317747
END:VEVENT
BEGIN:VEVENT
DTSTART;TZID=America/Chicago:20291004T153000
DTEND;TZID=America/Chicago:20291004T153000
DTSTAMP:20260423T131940
CREATED:20240205T150052Z
LAST-MODIFIED:20240205T150612Z
UID:10009590-1885822200-1885822200@washingtoncounty.guide
SUMMARY:PWSD #1 Water Board Meeting
DESCRIPTION:All meeting dates and times are subject to change. Contact organizer for more info.
URL:https://washingtoncounty.guide/event/pwsd-1-water-board-meeting/2029-10-04/
LOCATION:Washington County IDA Office\, 501 E High St.\, Potosi\, MO\, 63664\, United States
CATEGORIES:Community Development
GEO:37.9317747;-90.7805093
X-APPLE-STRUCTURED-LOCATION;VALUE=URI;X-ADDRESS=Washington County IDA Office 501 E High St. Potosi MO 63664 United States;X-APPLE-RADIUS=500;X-TITLE=501 E High St.:geo:-90.7805093,37.9317747
END:VEVENT
BEGIN:VEVENT
DTSTART;TZID=America/Chicago:20291101T153000
DTEND;TZID=America/Chicago:20291101T153000
DTSTAMP:20260423T131940
CREATED:20240205T150052Z
LAST-MODIFIED:20240205T150612Z
UID:10009693-1888241400-1888241400@washingtoncounty.guide
SUMMARY:PWSD #1 Water Board Meeting
DESCRIPTION:All meeting dates and times are subject to change. Contact organizer for more info.
URL:https://washingtoncounty.guide/event/pwsd-1-water-board-meeting/2029-11-01/
LOCATION:Washington County IDA Office\, 501 E High St.\, Potosi\, MO\, 63664\, United States
CATEGORIES:Community Development
GEO:37.9317747;-90.7805093
X-APPLE-STRUCTURED-LOCATION;VALUE=URI;X-ADDRESS=Washington County IDA Office 501 E High St. Potosi MO 63664 United States;X-APPLE-RADIUS=500;X-TITLE=501 E High St.:geo:-90.7805093,37.9317747
END:VEVENT
BEGIN:VEVENT
DTSTART;TZID=America/Chicago:20291206T153000
DTEND;TZID=America/Chicago:20291206T153000
DTSTAMP:20260423T131940
CREATED:20240205T150052Z
LAST-MODIFIED:20240205T150612Z
UID:10009806-1891265400-1891265400@washingtoncounty.guide
SUMMARY:PWSD #1 Water Board Meeting
DESCRIPTION:All meeting dates and times are subject to change. Contact organizer for more info.
URL:https://washingtoncounty.guide/event/pwsd-1-water-board-meeting/2029-12-06/
LOCATION:Washington County IDA Office\, 501 E High St.\, Potosi\, MO\, 63664\, United States
CATEGORIES:Community Development
GEO:37.9317747;-90.7805093
X-APPLE-STRUCTURED-LOCATION;VALUE=URI;X-ADDRESS=Washington County IDA Office 501 E High St. Potosi MO 63664 United States;X-APPLE-RADIUS=500;X-TITLE=501 E High St.:geo:-90.7805093,37.9317747
END:VEVENT
BEGIN:VEVENT
DTSTART;TZID=America/Chicago:20300103T153000
DTEND;TZID=America/Chicago:20300103T153000
DTSTAMP:20260423T131940
CREATED:20240205T150052Z
LAST-MODIFIED:20240205T150612Z
UID:10010169-1893684600-1893684600@washingtoncounty.guide
SUMMARY:PWSD #1 Water Board Meeting
DESCRIPTION:All meeting dates and times are subject to change. Contact organizer for more info.
URL:https://washingtoncounty.guide/event/pwsd-1-water-board-meeting/2030-01-03/
LOCATION:Washington County IDA Office\, 501 E High St.\, Potosi\, MO\, 63664\, United States
CATEGORIES:Community Development
GEO:37.9317747;-90.7805093
X-APPLE-STRUCTURED-LOCATION;VALUE=URI;X-ADDRESS=Washington County IDA Office 501 E High St. Potosi MO 63664 United States;X-APPLE-RADIUS=500;X-TITLE=501 E High St.:geo:-90.7805093,37.9317747
END:VEVENT
BEGIN:VEVENT
DTSTART;TZID=America/Chicago:20300207T153000
DTEND;TZID=America/Chicago:20300207T153000
DTSTAMP:20260423T131940
CREATED:20240205T150052Z
LAST-MODIFIED:20240205T150612Z
UID:10010498-1896708600-1896708600@washingtoncounty.guide
SUMMARY:PWSD #1 Water Board Meeting
DESCRIPTION:All meeting dates and times are subject to change. Contact organizer for more info.
URL:https://washingtoncounty.guide/event/pwsd-1-water-board-meeting/2030-02-07/
LOCATION:Washington County IDA Office\, 501 E High St.\, Potosi\, MO\, 63664\, United States
CATEGORIES:Community Development
GEO:37.9317747;-90.7805093
X-APPLE-STRUCTURED-LOCATION;VALUE=URI;X-ADDRESS=Washington County IDA Office 501 E High St. Potosi MO 63664 United States;X-APPLE-RADIUS=500;X-TITLE=501 E High St.:geo:-90.7805093,37.9317747
END:VEVENT
BEGIN:VEVENT
DTSTART;TZID=America/Chicago:20300307T153000
DTEND;TZID=America/Chicago:20300307T153000
DTSTAMP:20260423T131940
CREATED:20240205T150052Z
LAST-MODIFIED:20240205T150612Z
UID:10011033-1899127800-1899127800@washingtoncounty.guide
SUMMARY:PWSD #1 Water Board Meeting
DESCRIPTION:All meeting dates and times are subject to change. Contact organizer for more info.
URL:https://washingtoncounty.guide/event/pwsd-1-water-board-meeting/2030-03-07/
LOCATION:Washington County IDA Office\, 501 E High St.\, Potosi\, MO\, 63664\, United States
CATEGORIES:Community Development
GEO:37.9317747;-90.7805093
X-APPLE-STRUCTURED-LOCATION;VALUE=URI;X-ADDRESS=Washington County IDA Office 501 E High St. Potosi MO 63664 United States;X-APPLE-RADIUS=500;X-TITLE=501 E High St.:geo:-90.7805093,37.9317747
END:VEVENT
BEGIN:VEVENT
DTSTART;TZID=America/Chicago:20300404T153000
DTEND;TZID=America/Chicago:20300404T153000
DTSTAMP:20260423T131940
CREATED:20240205T150052Z
LAST-MODIFIED:20240205T150612Z
UID:10011034-1901547000-1901547000@washingtoncounty.guide
SUMMARY:PWSD #1 Water Board Meeting
DESCRIPTION:All meeting dates and times are subject to change. Contact organizer for more info.
URL:https://washingtoncounty.guide/event/pwsd-1-water-board-meeting/2030-04-04/
LOCATION:Washington County IDA Office\, 501 E High St.\, Potosi\, MO\, 63664\, United States
CATEGORIES:Community Development
GEO:37.9317747;-90.7805093
X-APPLE-STRUCTURED-LOCATION;VALUE=URI;X-ADDRESS=Washington County IDA Office 501 E High St. Potosi MO 63664 United States;X-APPLE-RADIUS=500;X-TITLE=501 E High St.:geo:-90.7805093,37.9317747
END:VEVENT
BEGIN:VEVENT
DTSTART;TZID=America/Chicago:20300502T153000
DTEND;TZID=America/Chicago:20300502T153000
DTSTAMP:20260423T131940
CREATED:20240205T150052Z
LAST-MODIFIED:20240205T150612Z
UID:10011137-1903966200-1903966200@washingtoncounty.guide
SUMMARY:PWSD #1 Water Board Meeting
DESCRIPTION:All meeting dates and times are subject to change. Contact organizer for more info.
URL:https://washingtoncounty.guide/event/pwsd-1-water-board-meeting/2030-05-02/
LOCATION:Washington County IDA Office\, 501 E High St.\, Potosi\, MO\, 63664\, United States
CATEGORIES:Community Development
GEO:37.9317747;-90.7805093
X-APPLE-STRUCTURED-LOCATION;VALUE=URI;X-ADDRESS=Washington County IDA Office 501 E High St. Potosi MO 63664 United States;X-APPLE-RADIUS=500;X-TITLE=501 E High St.:geo:-90.7805093,37.9317747
END:VEVENT
BEGIN:VEVENT
DTSTART;TZID=America/Chicago:20300606T153000
DTEND;TZID=America/Chicago:20300606T153000
DTSTAMP:20260423T131940
CREATED:20240205T150052Z
LAST-MODIFIED:20240205T150612Z
UID:10011680-1906990200-1906990200@washingtoncounty.guide
SUMMARY:PWSD #1 Water Board Meeting
DESCRIPTION:All meeting dates and times are subject to change. Contact organizer for more info.
URL:https://washingtoncounty.guide/event/pwsd-1-water-board-meeting/2030-06-06/
LOCATION:Washington County IDA Office\, 501 E High St.\, Potosi\, MO\, 63664\, United States
CATEGORIES:Community Development
GEO:37.9317747;-90.7805093
X-APPLE-STRUCTURED-LOCATION;VALUE=URI;X-ADDRESS=Washington County IDA Office 501 E High St. Potosi MO 63664 United States;X-APPLE-RADIUS=500;X-TITLE=501 E High St.:geo:-90.7805093,37.9317747
END:VEVENT
BEGIN:VEVENT
DTSTART;TZID=America/Chicago:20300704T153000
DTEND;TZID=America/Chicago:20300704T153000
DTSTAMP:20260423T131940
CREATED:20240205T150052Z
LAST-MODIFIED:20240205T150612Z
UID:10011681-1909409400-1909409400@washingtoncounty.guide
SUMMARY:PWSD #1 Water Board Meeting
DESCRIPTION:All meeting dates and times are subject to change. Contact organizer for more info.
URL:https://washingtoncounty.guide/event/pwsd-1-water-board-meeting/2030-07-04/
LOCATION:Washington County IDA Office\, 501 E High St.\, Potosi\, MO\, 63664\, United States
CATEGORIES:Community Development
GEO:37.9317747;-90.7805093
X-APPLE-STRUCTURED-LOCATION;VALUE=URI;X-ADDRESS=Washington County IDA Office 501 E High St. Potosi MO 63664 United States;X-APPLE-RADIUS=500;X-TITLE=501 E High St.:geo:-90.7805093,37.9317747
END:VEVENT
BEGIN:VEVENT
DTSTART;TZID=America/Chicago:20300801T153000
DTEND;TZID=America/Chicago:20300801T153000
DTSTAMP:20260423T131940
CREATED:20240205T150052Z
LAST-MODIFIED:20240205T150612Z
UID:10012674-1911828600-1911828600@washingtoncounty.guide
SUMMARY:PWSD #1 Water Board Meeting
DESCRIPTION:All meeting dates and times are subject to change. Contact organizer for more info.
URL:https://washingtoncounty.guide/event/pwsd-1-water-board-meeting/2030-08-01/
LOCATION:Washington County IDA Office\, 501 E High St.\, Potosi\, MO\, 63664\, United States
CATEGORIES:Community Development
GEO:37.9317747;-90.7805093
X-APPLE-STRUCTURED-LOCATION;VALUE=URI;X-ADDRESS=Washington County IDA Office 501 E High St. Potosi MO 63664 United States;X-APPLE-RADIUS=500;X-TITLE=501 E High St.:geo:-90.7805093,37.9317747
END:VEVENT
BEGIN:VEVENT
DTSTART;TZID=America/Chicago:20300905T153000
DTEND;TZID=America/Chicago:20300905T153000
DTSTAMP:20260423T131940
CREATED:20240205T150052Z
LAST-MODIFIED:20240205T150612Z
UID:10012778-1914852600-1914852600@washingtoncounty.guide
SUMMARY:PWSD #1 Water Board Meeting
DESCRIPTION:All meeting dates and times are subject to change. Contact organizer for more info.
URL:https://washingtoncounty.guide/event/pwsd-1-water-board-meeting/2030-09-05/
LOCATION:Washington County IDA Office\, 501 E High St.\, Potosi\, MO\, 63664\, United States
CATEGORIES:Community Development
GEO:37.9317747;-90.7805093
X-APPLE-STRUCTURED-LOCATION;VALUE=URI;X-ADDRESS=Washington County IDA Office 501 E High St. Potosi MO 63664 United States;X-APPLE-RADIUS=500;X-TITLE=501 E High St.:geo:-90.7805093,37.9317747
END:VEVENT
BEGIN:VEVENT
DTSTART;TZID=America/Chicago:20301003T153000
DTEND;TZID=America/Chicago:20301003T153000
DTSTAMP:20260423T131940
CREATED:20240205T150052Z
LAST-MODIFIED:20240205T150612Z
UID:10012947-1917271800-1917271800@washingtoncounty.guide
SUMMARY:PWSD #1 Water Board Meeting
DESCRIPTION:All meeting dates and times are subject to change. Contact organizer for more info.
URL:https://washingtoncounty.guide/event/pwsd-1-water-board-meeting/2030-10-03/
LOCATION:Washington County IDA Office\, 501 E High St.\, Potosi\, MO\, 63664\, United States
CATEGORIES:Community Development
GEO:37.9317747;-90.7805093
X-APPLE-STRUCTURED-LOCATION;VALUE=URI;X-ADDRESS=Washington County IDA Office 501 E High St. Potosi MO 63664 United States;X-APPLE-RADIUS=500;X-TITLE=501 E High St.:geo:-90.7805093,37.9317747
END:VEVENT
BEGIN:VEVENT
DTSTART;TZID=America/Chicago:20301107T153000
DTEND;TZID=America/Chicago:20301107T153000
DTSTAMP:20260423T131940
CREATED:20240205T150052Z
LAST-MODIFIED:20240205T150612Z
UID:10013125-1920295800-1920295800@washingtoncounty.guide
SUMMARY:PWSD #1 Water Board Meeting
DESCRIPTION:All meeting dates and times are subject to change. Contact organizer for more info.
URL:https://washingtoncounty.guide/event/pwsd-1-water-board-meeting/2030-11-07/
LOCATION:Washington County IDA Office\, 501 E High St.\, Potosi\, MO\, 63664\, United States
CATEGORIES:Community Development
GEO:37.9317747;-90.7805093
X-APPLE-STRUCTURED-LOCATION;VALUE=URI;X-ADDRESS=Washington County IDA Office 501 E High St. Potosi MO 63664 United States;X-APPLE-RADIUS=500;X-TITLE=501 E High St.:geo:-90.7805093,37.9317747
END:VEVENT
BEGIN:VEVENT
DTSTART;TZID=America/Chicago:20301205T153000
DTEND;TZID=America/Chicago:20301205T153000
DTSTAMP:20260423T131940
CREATED:20240205T150052Z
LAST-MODIFIED:20240205T150612Z
UID:10013126-1922715000-1922715000@washingtoncounty.guide
SUMMARY:PWSD #1 Water Board Meeting
DESCRIPTION:All meeting dates and times are subject to change. Contact organizer for more info.
URL:https://washingtoncounty.guide/event/pwsd-1-water-board-meeting/2030-12-05/
LOCATION:Washington County IDA Office\, 501 E High St.\, Potosi\, MO\, 63664\, United States
CATEGORIES:Community Development
GEO:37.9317747;-90.7805093
X-APPLE-STRUCTURED-LOCATION;VALUE=URI;X-ADDRESS=Washington County IDA Office 501 E High St. Potosi MO 63664 United States;X-APPLE-RADIUS=500;X-TITLE=501 E High St.:geo:-90.7805093,37.9317747
END:VEVENT
BEGIN:VEVENT
DTSTART;TZID=America/Chicago:20310102T153000
DTEND;TZID=America/Chicago:20310102T153000
DTSTAMP:20260423T131940
CREATED:20240205T150052Z
LAST-MODIFIED:20240205T150612Z
UID:10013215-1925134200-1925134200@washingtoncounty.guide
SUMMARY:PWSD #1 Water Board Meeting
DESCRIPTION:All meeting dates and times are subject to change. Contact organizer for more info.
URL:https://washingtoncounty.guide/event/pwsd-1-water-board-meeting/2031-01-02/
LOCATION:Washington County IDA Office\, 501 E High St.\, Potosi\, MO\, 63664\, United States
CATEGORIES:Community Development
GEO:37.9317747;-90.7805093
X-APPLE-STRUCTURED-LOCATION;VALUE=URI;X-ADDRESS=Washington County IDA Office 501 E High St. Potosi MO 63664 United States;X-APPLE-RADIUS=500;X-TITLE=501 E High St.:geo:-90.7805093,37.9317747
END:VEVENT
BEGIN:VEVENT
DTSTART;TZID=America/Chicago:20310206T153000
DTEND;TZID=America/Chicago:20310206T153000
DTSTAMP:20260423T131940
CREATED:20240205T150052Z
LAST-MODIFIED:20240205T150612Z
UID:10013383-1928158200-1928158200@washingtoncounty.guide
SUMMARY:PWSD #1 Water Board Meeting
DESCRIPTION:All meeting dates and times are subject to change. Contact organizer for more info.
URL:https://washingtoncounty.guide/event/pwsd-1-water-board-meeting/2031-02-06/
LOCATION:Washington County IDA Office\, 501 E High St.\, Potosi\, MO\, 63664\, United States
CATEGORIES:Community Development
GEO:37.9317747;-90.7805093
X-APPLE-STRUCTURED-LOCATION;VALUE=URI;X-ADDRESS=Washington County IDA Office 501 E High St. Potosi MO 63664 United States;X-APPLE-RADIUS=500;X-TITLE=501 E High St.:geo:-90.7805093,37.9317747
END:VEVENT
BEGIN:VEVENT
DTSTART;TZID=America/Chicago:20310306T153000
DTEND;TZID=America/Chicago:20310306T153000
DTSTAMP:20260423T131940
CREATED:20240205T150052Z
LAST-MODIFIED:20240205T150612Z
UID:10013438-1930577400-1930577400@washingtoncounty.guide
SUMMARY:PWSD #1 Water Board Meeting
DESCRIPTION:All meeting dates and times are subject to change. Contact organizer for more info.
URL:https://washingtoncounty.guide/event/pwsd-1-water-board-meeting/2031-03-06/
LOCATION:Washington County IDA Office\, 501 E High St.\, Potosi\, MO\, 63664\, United States
CATEGORIES:Community Development
GEO:37.9317747;-90.7805093
X-APPLE-STRUCTURED-LOCATION;VALUE=URI;X-ADDRESS=Washington County IDA Office 501 E High St. Potosi MO 63664 United States;X-APPLE-RADIUS=500;X-TITLE=501 E High St.:geo:-90.7805093,37.9317747
END:VEVENT
BEGIN:VEVENT
DTSTART;TZID=America/Chicago:20310403T153000
DTEND;TZID=America/Chicago:20310403T153000
DTSTAMP:20260423T131940
CREATED:20240205T150052Z
LAST-MODIFIED:20240205T150612Z
UID:10013439-1932996600-1932996600@washingtoncounty.guide
SUMMARY:PWSD #1 Water Board Meeting
DESCRIPTION:All meeting dates and times are subject to change. Contact organizer for more info.
URL:https://washingtoncounty.guide/event/pwsd-1-water-board-meeting/2031-04-03/
LOCATION:Washington County IDA Office\, 501 E High St.\, Potosi\, MO\, 63664\, United States
CATEGORIES:Community Development
GEO:37.9317747;-90.7805093
X-APPLE-STRUCTURED-LOCATION;VALUE=URI;X-ADDRESS=Washington County IDA Office 501 E High St. Potosi MO 63664 United States;X-APPLE-RADIUS=500;X-TITLE=501 E High St.:geo:-90.7805093,37.9317747
END:VEVENT
END:VCALENDAR