BEGIN:VCALENDAR
VERSION:2.0
PRODID:-//Washington County Guide - ECPv6.15.17.1//NONSGML v1.0//EN
CALSCALE:GREGORIAN
METHOD:PUBLISH
X-ORIGINAL-URL:https://washingtoncounty.guide
X-WR-CALDESC:Events for Washington County Guide
REFRESH-INTERVAL;VALUE=DURATION:PT1H
X-Robots-Tag:noindex
X-PUBLISHED-TTL:PT1H
BEGIN:VTIMEZONE
TZID:America/Chicago
BEGIN:DAYLIGHT
TZOFFSETFROM:-0600
TZOFFSETTO:-0500
TZNAME:CDT
DTSTART:20260308T080000
END:DAYLIGHT
BEGIN:STANDARD
TZOFFSETFROM:-0500
TZOFFSETTO:-0600
TZNAME:CST
DTSTART:20261101T070000
END:STANDARD
BEGIN:DAYLIGHT
TZOFFSETFROM:-0600
TZOFFSETTO:-0500
TZNAME:CDT
DTSTART:20270314T080000
END:DAYLIGHT
BEGIN:STANDARD
TZOFFSETFROM:-0500
TZOFFSETTO:-0600
TZNAME:CST
DTSTART:20271107T070000
END:STANDARD
BEGIN:DAYLIGHT
TZOFFSETFROM:-0600
TZOFFSETTO:-0500
TZNAME:CDT
DTSTART:20280312T080000
END:DAYLIGHT
BEGIN:STANDARD
TZOFFSETFROM:-0500
TZOFFSETTO:-0600
TZNAME:CST
DTSTART:20281105T070000
END:STANDARD
BEGIN:DAYLIGHT
TZOFFSETFROM:-0600
TZOFFSETTO:-0500
TZNAME:CDT
DTSTART:20290311T080000
END:DAYLIGHT
BEGIN:STANDARD
TZOFFSETFROM:-0500
TZOFFSETTO:-0600
TZNAME:CST
DTSTART:20291104T070000
END:STANDARD
END:VTIMEZONE
BEGIN:VEVENT
DTSTART;TZID=America/Chicago:20270302T083000
DTEND;TZID=America/Chicago:20270302T083000
DTSTAMP:20260423T115609
CREATED:20231212T151419Z
LAST-MODIFIED:20231212T151419Z
UID:10007373-1803976200-1803976200@washingtoncounty.guide
SUMMARY:Washington County IDA Board meeting
DESCRIPTION:Contact organizer for more information.
URL:https://washingtoncounty.guide/event/washington-county-ida-board-meeting/2027-03-02/
LOCATION:Washington County IDA Office\, 501 E High St.\, Potosi\, MO\, 63664\, United States
CATEGORIES:Adults,Informational,Networking
ORGANIZER;CN="Washington County IDA":MAILTO:contact@washingtoncomo.com
GEO:37.9317747;-90.7805093
X-APPLE-STRUCTURED-LOCATION;VALUE=URI;X-ADDRESS=Washington County IDA Office 501 E High St. Potosi MO 63664 United States;X-APPLE-RADIUS=500;X-TITLE=501 E High St.:geo:-90.7805093,37.9317747
END:VEVENT
BEGIN:VEVENT
DTSTART;TZID=America/Chicago:20270304T153000
DTEND;TZID=America/Chicago:20270304T153000
DTSTAMP:20260423T115609
CREATED:20240205T150052Z
LAST-MODIFIED:20240205T150612Z
UID:10007714-1804174200-1804174200@washingtoncounty.guide
SUMMARY:PWSD #1 Water Board Meeting
DESCRIPTION:All meeting dates and times are subject to change. Contact organizer for more info.
URL:https://washingtoncounty.guide/event/pwsd-1-water-board-meeting/2027-03-04/
LOCATION:Washington County IDA Office\, 501 E High St.\, Potosi\, MO\, 63664\, United States
CATEGORIES:Community Development
GEO:37.9317747;-90.7805093
X-APPLE-STRUCTURED-LOCATION;VALUE=URI;X-ADDRESS=Washington County IDA Office 501 E High St. Potosi MO 63664 United States;X-APPLE-RADIUS=500;X-TITLE=501 E High St.:geo:-90.7805093,37.9317747
END:VEVENT
BEGIN:VEVENT
DTSTART;TZID=America/Chicago:20270401T153000
DTEND;TZID=America/Chicago:20270401T153000
DTSTAMP:20260423T115609
CREATED:20240205T150052Z
LAST-MODIFIED:20240205T150612Z
UID:10007715-1806593400-1806593400@washingtoncounty.guide
SUMMARY:PWSD #1 Water Board Meeting
DESCRIPTION:All meeting dates and times are subject to change. Contact organizer for more info.
URL:https://washingtoncounty.guide/event/pwsd-1-water-board-meeting/2027-04-01/
LOCATION:Washington County IDA Office\, 501 E High St.\, Potosi\, MO\, 63664\, United States
CATEGORIES:Community Development
GEO:37.9317747;-90.7805093
X-APPLE-STRUCTURED-LOCATION;VALUE=URI;X-ADDRESS=Washington County IDA Office 501 E High St. Potosi MO 63664 United States;X-APPLE-RADIUS=500;X-TITLE=501 E High St.:geo:-90.7805093,37.9317747
END:VEVENT
BEGIN:VEVENT
DTSTART;TZID=America/Chicago:20270406T083000
DTEND;TZID=America/Chicago:20270406T083000
DTSTAMP:20260423T115609
CREATED:20231212T151419Z
LAST-MODIFIED:20231212T151419Z
UID:10007374-1807000200-1807000200@washingtoncounty.guide
SUMMARY:Washington County IDA Board meeting
DESCRIPTION:Contact organizer for more information.
URL:https://washingtoncounty.guide/event/washington-county-ida-board-meeting/2027-04-06/
LOCATION:Washington County IDA Office\, 501 E High St.\, Potosi\, MO\, 63664\, United States
CATEGORIES:Adults,Informational,Networking
ORGANIZER;CN="Washington County IDA":MAILTO:contact@washingtoncomo.com
GEO:37.9317747;-90.7805093
X-APPLE-STRUCTURED-LOCATION;VALUE=URI;X-ADDRESS=Washington County IDA Office 501 E High St. Potosi MO 63664 United States;X-APPLE-RADIUS=500;X-TITLE=501 E High St.:geo:-90.7805093,37.9317747
END:VEVENT
BEGIN:VEVENT
DTSTART;TZID=America/Chicago:20270504T083000
DTEND;TZID=America/Chicago:20270504T083000
DTSTAMP:20260423T115609
CREATED:20231212T151419Z
LAST-MODIFIED:20231212T151419Z
UID:10007375-1809419400-1809419400@washingtoncounty.guide
SUMMARY:Washington County IDA Board meeting
DESCRIPTION:Contact organizer for more information.
URL:https://washingtoncounty.guide/event/washington-county-ida-board-meeting/2027-05-04/
LOCATION:Washington County IDA Office\, 501 E High St.\, Potosi\, MO\, 63664\, United States
CATEGORIES:Adults,Informational,Networking
ORGANIZER;CN="Washington County IDA":MAILTO:contact@washingtoncomo.com
GEO:37.9317747;-90.7805093
X-APPLE-STRUCTURED-LOCATION;VALUE=URI;X-ADDRESS=Washington County IDA Office 501 E High St. Potosi MO 63664 United States;X-APPLE-RADIUS=500;X-TITLE=501 E High St.:geo:-90.7805093,37.9317747
END:VEVENT
BEGIN:VEVENT
DTSTART;TZID=America/Chicago:20270506T153000
DTEND;TZID=America/Chicago:20270506T153000
DTSTAMP:20260423T115609
CREATED:20240205T150052Z
LAST-MODIFIED:20240205T150612Z
UID:10007716-1809617400-1809617400@washingtoncounty.guide
SUMMARY:PWSD #1 Water Board Meeting
DESCRIPTION:All meeting dates and times are subject to change. Contact organizer for more info.
URL:https://washingtoncounty.guide/event/pwsd-1-water-board-meeting/2027-05-06/
LOCATION:Washington County IDA Office\, 501 E High St.\, Potosi\, MO\, 63664\, United States
CATEGORIES:Community Development
GEO:37.9317747;-90.7805093
X-APPLE-STRUCTURED-LOCATION;VALUE=URI;X-ADDRESS=Washington County IDA Office 501 E High St. Potosi MO 63664 United States;X-APPLE-RADIUS=500;X-TITLE=501 E High St.:geo:-90.7805093,37.9317747
END:VEVENT
BEGIN:VEVENT
DTSTART;TZID=America/Chicago:20270601T083000
DTEND;TZID=America/Chicago:20270601T083000
DTSTAMP:20260423T115609
CREATED:20231212T151419Z
LAST-MODIFIED:20231212T151419Z
UID:10007376-1811838600-1811838600@washingtoncounty.guide
SUMMARY:Washington County IDA Board meeting
DESCRIPTION:Contact organizer for more information.
URL:https://washingtoncounty.guide/event/washington-county-ida-board-meeting/2027-06-01/
LOCATION:Washington County IDA Office\, 501 E High St.\, Potosi\, MO\, 63664\, United States
CATEGORIES:Adults,Informational,Networking
ORGANIZER;CN="Washington County IDA":MAILTO:contact@washingtoncomo.com
GEO:37.9317747;-90.7805093
X-APPLE-STRUCTURED-LOCATION;VALUE=URI;X-ADDRESS=Washington County IDA Office 501 E High St. Potosi MO 63664 United States;X-APPLE-RADIUS=500;X-TITLE=501 E High St.:geo:-90.7805093,37.9317747
END:VEVENT
BEGIN:VEVENT
DTSTART;TZID=America/Chicago:20270603T153000
DTEND;TZID=America/Chicago:20270603T153000
DTSTAMP:20260423T115609
CREATED:20240205T150052Z
LAST-MODIFIED:20240205T150612Z
UID:10007717-1812036600-1812036600@washingtoncounty.guide
SUMMARY:PWSD #1 Water Board Meeting
DESCRIPTION:All meeting dates and times are subject to change. Contact organizer for more info.
URL:https://washingtoncounty.guide/event/pwsd-1-water-board-meeting/2027-06-03/
LOCATION:Washington County IDA Office\, 501 E High St.\, Potosi\, MO\, 63664\, United States
CATEGORIES:Community Development
GEO:37.9317747;-90.7805093
X-APPLE-STRUCTURED-LOCATION;VALUE=URI;X-ADDRESS=Washington County IDA Office 501 E High St. Potosi MO 63664 United States;X-APPLE-RADIUS=500;X-TITLE=501 E High St.:geo:-90.7805093,37.9317747
END:VEVENT
BEGIN:VEVENT
DTSTART;TZID=America/Chicago:20270701T153000
DTEND;TZID=America/Chicago:20270701T153000
DTSTAMP:20260423T115609
CREATED:20240205T150052Z
LAST-MODIFIED:20240205T150612Z
UID:10007718-1814455800-1814455800@washingtoncounty.guide
SUMMARY:PWSD #1 Water Board Meeting
DESCRIPTION:All meeting dates and times are subject to change. Contact organizer for more info.
URL:https://washingtoncounty.guide/event/pwsd-1-water-board-meeting/2027-07-01/
LOCATION:Washington County IDA Office\, 501 E High St.\, Potosi\, MO\, 63664\, United States
CATEGORIES:Community Development
GEO:37.9317747;-90.7805093
X-APPLE-STRUCTURED-LOCATION;VALUE=URI;X-ADDRESS=Washington County IDA Office 501 E High St. Potosi MO 63664 United States;X-APPLE-RADIUS=500;X-TITLE=501 E High St.:geo:-90.7805093,37.9317747
END:VEVENT
BEGIN:VEVENT
DTSTART;TZID=America/Chicago:20270706T083000
DTEND;TZID=America/Chicago:20270706T083000
DTSTAMP:20260423T115609
CREATED:20231212T151419Z
LAST-MODIFIED:20231212T151419Z
UID:10007377-1814862600-1814862600@washingtoncounty.guide
SUMMARY:Washington County IDA Board meeting
DESCRIPTION:Contact organizer for more information.
URL:https://washingtoncounty.guide/event/washington-county-ida-board-meeting/2027-07-06/
LOCATION:Washington County IDA Office\, 501 E High St.\, Potosi\, MO\, 63664\, United States
CATEGORIES:Adults,Informational,Networking
ORGANIZER;CN="Washington County IDA":MAILTO:contact@washingtoncomo.com
GEO:37.9317747;-90.7805093
X-APPLE-STRUCTURED-LOCATION;VALUE=URI;X-ADDRESS=Washington County IDA Office 501 E High St. Potosi MO 63664 United States;X-APPLE-RADIUS=500;X-TITLE=501 E High St.:geo:-90.7805093,37.9317747
END:VEVENT
BEGIN:VEVENT
DTSTART;TZID=America/Chicago:20270803T083000
DTEND;TZID=America/Chicago:20270803T083000
DTSTAMP:20260423T115609
CREATED:20231212T151419Z
LAST-MODIFIED:20231212T151419Z
UID:10007378-1817281800-1817281800@washingtoncounty.guide
SUMMARY:Washington County IDA Board meeting
DESCRIPTION:Contact organizer for more information.
URL:https://washingtoncounty.guide/event/washington-county-ida-board-meeting/2027-08-03/
LOCATION:Washington County IDA Office\, 501 E High St.\, Potosi\, MO\, 63664\, United States
CATEGORIES:Adults,Informational,Networking
ORGANIZER;CN="Washington County IDA":MAILTO:contact@washingtoncomo.com
GEO:37.9317747;-90.7805093
X-APPLE-STRUCTURED-LOCATION;VALUE=URI;X-ADDRESS=Washington County IDA Office 501 E High St. Potosi MO 63664 United States;X-APPLE-RADIUS=500;X-TITLE=501 E High St.:geo:-90.7805093,37.9317747
END:VEVENT
BEGIN:VEVENT
DTSTART;TZID=America/Chicago:20270805T153000
DTEND;TZID=America/Chicago:20270805T153000
DTSTAMP:20260423T115609
CREATED:20240205T150052Z
LAST-MODIFIED:20240205T150612Z
UID:10007719-1817479800-1817479800@washingtoncounty.guide
SUMMARY:PWSD #1 Water Board Meeting
DESCRIPTION:All meeting dates and times are subject to change. Contact organizer for more info.
URL:https://washingtoncounty.guide/event/pwsd-1-water-board-meeting/2027-08-05/
LOCATION:Washington County IDA Office\, 501 E High St.\, Potosi\, MO\, 63664\, United States
CATEGORIES:Community Development
GEO:37.9317747;-90.7805093
X-APPLE-STRUCTURED-LOCATION;VALUE=URI;X-ADDRESS=Washington County IDA Office 501 E High St. Potosi MO 63664 United States;X-APPLE-RADIUS=500;X-TITLE=501 E High St.:geo:-90.7805093,37.9317747
END:VEVENT
BEGIN:VEVENT
DTSTART;TZID=America/Chicago:20270902T153000
DTEND;TZID=America/Chicago:20270902T153000
DTSTAMP:20260423T115609
CREATED:20240205T150052Z
LAST-MODIFIED:20240205T150612Z
UID:10007720-1819899000-1819899000@washingtoncounty.guide
SUMMARY:PWSD #1 Water Board Meeting
DESCRIPTION:All meeting dates and times are subject to change. Contact organizer for more info.
URL:https://washingtoncounty.guide/event/pwsd-1-water-board-meeting/2027-09-02/
LOCATION:Washington County IDA Office\, 501 E High St.\, Potosi\, MO\, 63664\, United States
CATEGORIES:Community Development
GEO:37.9317747;-90.7805093
X-APPLE-STRUCTURED-LOCATION;VALUE=URI;X-ADDRESS=Washington County IDA Office 501 E High St. Potosi MO 63664 United States;X-APPLE-RADIUS=500;X-TITLE=501 E High St.:geo:-90.7805093,37.9317747
END:VEVENT
BEGIN:VEVENT
DTSTART;TZID=America/Chicago:20270907T083000
DTEND;TZID=America/Chicago:20270907T083000
DTSTAMP:20260423T115609
CREATED:20231212T151419Z
LAST-MODIFIED:20231212T151419Z
UID:10007379-1820305800-1820305800@washingtoncounty.guide
SUMMARY:Washington County IDA Board meeting
DESCRIPTION:Contact organizer for more information.
URL:https://washingtoncounty.guide/event/washington-county-ida-board-meeting/2027-09-07/
LOCATION:Washington County IDA Office\, 501 E High St.\, Potosi\, MO\, 63664\, United States
CATEGORIES:Adults,Informational,Networking
ORGANIZER;CN="Washington County IDA":MAILTO:contact@washingtoncomo.com
GEO:37.9317747;-90.7805093
X-APPLE-STRUCTURED-LOCATION;VALUE=URI;X-ADDRESS=Washington County IDA Office 501 E High St. Potosi MO 63664 United States;X-APPLE-RADIUS=500;X-TITLE=501 E High St.:geo:-90.7805093,37.9317747
END:VEVENT
BEGIN:VEVENT
DTSTART;TZID=America/Chicago:20271005T083000
DTEND;TZID=America/Chicago:20271005T083000
DTSTAMP:20260423T115609
CREATED:20231212T151419Z
LAST-MODIFIED:20231212T151419Z
UID:10007380-1822725000-1822725000@washingtoncounty.guide
SUMMARY:Washington County IDA Board meeting
DESCRIPTION:Contact organizer for more information.
URL:https://washingtoncounty.guide/event/washington-county-ida-board-meeting/2027-10-05/
LOCATION:Washington County IDA Office\, 501 E High St.\, Potosi\, MO\, 63664\, United States
CATEGORIES:Adults,Informational,Networking
ORGANIZER;CN="Washington County IDA":MAILTO:contact@washingtoncomo.com
GEO:37.9317747;-90.7805093
X-APPLE-STRUCTURED-LOCATION;VALUE=URI;X-ADDRESS=Washington County IDA Office 501 E High St. Potosi MO 63664 United States;X-APPLE-RADIUS=500;X-TITLE=501 E High St.:geo:-90.7805093,37.9317747
END:VEVENT
BEGIN:VEVENT
DTSTART;TZID=America/Chicago:20271007T153000
DTEND;TZID=America/Chicago:20271007T153000
DTSTAMP:20260423T115609
CREATED:20240205T150052Z
LAST-MODIFIED:20240205T150612Z
UID:10007721-1822923000-1822923000@washingtoncounty.guide
SUMMARY:PWSD #1 Water Board Meeting
DESCRIPTION:All meeting dates and times are subject to change. Contact organizer for more info.
URL:https://washingtoncounty.guide/event/pwsd-1-water-board-meeting/2027-10-07/
LOCATION:Washington County IDA Office\, 501 E High St.\, Potosi\, MO\, 63664\, United States
CATEGORIES:Community Development
GEO:37.9317747;-90.7805093
X-APPLE-STRUCTURED-LOCATION;VALUE=URI;X-ADDRESS=Washington County IDA Office 501 E High St. Potosi MO 63664 United States;X-APPLE-RADIUS=500;X-TITLE=501 E High St.:geo:-90.7805093,37.9317747
END:VEVENT
BEGIN:VEVENT
DTSTART;TZID=America/Chicago:20271102T083000
DTEND;TZID=America/Chicago:20271102T083000
DTSTAMP:20260423T115609
CREATED:20231212T151419Z
LAST-MODIFIED:20231212T151419Z
UID:10007381-1825144200-1825144200@washingtoncounty.guide
SUMMARY:Washington County IDA Board meeting
DESCRIPTION:Contact organizer for more information.
URL:https://washingtoncounty.guide/event/washington-county-ida-board-meeting/2027-11-02/
LOCATION:Washington County IDA Office\, 501 E High St.\, Potosi\, MO\, 63664\, United States
CATEGORIES:Adults,Informational,Networking
ORGANIZER;CN="Washington County IDA":MAILTO:contact@washingtoncomo.com
GEO:37.9317747;-90.7805093
X-APPLE-STRUCTURED-LOCATION;VALUE=URI;X-ADDRESS=Washington County IDA Office 501 E High St. Potosi MO 63664 United States;X-APPLE-RADIUS=500;X-TITLE=501 E High St.:geo:-90.7805093,37.9317747
END:VEVENT
BEGIN:VEVENT
DTSTART;TZID=America/Chicago:20271104T153000
DTEND;TZID=America/Chicago:20271104T153000
DTSTAMP:20260423T115609
CREATED:20240205T150052Z
LAST-MODIFIED:20240205T150612Z
UID:10007722-1825342200-1825342200@washingtoncounty.guide
SUMMARY:PWSD #1 Water Board Meeting
DESCRIPTION:All meeting dates and times are subject to change. Contact organizer for more info.
URL:https://washingtoncounty.guide/event/pwsd-1-water-board-meeting/2027-11-04/
LOCATION:Washington County IDA Office\, 501 E High St.\, Potosi\, MO\, 63664\, United States
CATEGORIES:Community Development
GEO:37.9317747;-90.7805093
X-APPLE-STRUCTURED-LOCATION;VALUE=URI;X-ADDRESS=Washington County IDA Office 501 E High St. Potosi MO 63664 United States;X-APPLE-RADIUS=500;X-TITLE=501 E High St.:geo:-90.7805093,37.9317747
END:VEVENT
BEGIN:VEVENT
DTSTART;TZID=America/Chicago:20271202T153000
DTEND;TZID=America/Chicago:20271202T153000
DTSTAMP:20260423T115609
CREATED:20240205T150052Z
LAST-MODIFIED:20240205T150612Z
UID:10007723-1827761400-1827761400@washingtoncounty.guide
SUMMARY:PWSD #1 Water Board Meeting
DESCRIPTION:All meeting dates and times are subject to change. Contact organizer for more info.
URL:https://washingtoncounty.guide/event/pwsd-1-water-board-meeting/2027-12-02/
LOCATION:Washington County IDA Office\, 501 E High St.\, Potosi\, MO\, 63664\, United States
CATEGORIES:Community Development
GEO:37.9317747;-90.7805093
X-APPLE-STRUCTURED-LOCATION;VALUE=URI;X-ADDRESS=Washington County IDA Office 501 E High St. Potosi MO 63664 United States;X-APPLE-RADIUS=500;X-TITLE=501 E High St.:geo:-90.7805093,37.9317747
END:VEVENT
BEGIN:VEVENT
DTSTART;TZID=America/Chicago:20271207T083000
DTEND;TZID=America/Chicago:20271207T083000
DTSTAMP:20260423T115609
CREATED:20231212T151419Z
LAST-MODIFIED:20231212T151419Z
UID:10007382-1828168200-1828168200@washingtoncounty.guide
SUMMARY:Washington County IDA Board meeting
DESCRIPTION:Contact organizer for more information.
URL:https://washingtoncounty.guide/event/washington-county-ida-board-meeting/2027-12-07/
LOCATION:Washington County IDA Office\, 501 E High St.\, Potosi\, MO\, 63664\, United States
CATEGORIES:Adults,Informational,Networking
ORGANIZER;CN="Washington County IDA":MAILTO:contact@washingtoncomo.com
GEO:37.9317747;-90.7805093
X-APPLE-STRUCTURED-LOCATION;VALUE=URI;X-ADDRESS=Washington County IDA Office 501 E High St. Potosi MO 63664 United States;X-APPLE-RADIUS=500;X-TITLE=501 E High St.:geo:-90.7805093,37.9317747
END:VEVENT
BEGIN:VEVENT
DTSTART;TZID=America/Chicago:20280104T083000
DTEND;TZID=America/Chicago:20280104T083000
DTSTAMP:20260423T115609
CREATED:20231212T151419Z
LAST-MODIFIED:20231212T151419Z
UID:10007383-1830587400-1830587400@washingtoncounty.guide
SUMMARY:Washington County IDA Board meeting
DESCRIPTION:Contact organizer for more information.
URL:https://washingtoncounty.guide/event/washington-county-ida-board-meeting/2028-01-04/
LOCATION:Washington County IDA Office\, 501 E High St.\, Potosi\, MO\, 63664\, United States
CATEGORIES:Adults,Informational,Networking
ORGANIZER;CN="Washington County IDA":MAILTO:contact@washingtoncomo.com
GEO:37.9317747;-90.7805093
X-APPLE-STRUCTURED-LOCATION;VALUE=URI;X-ADDRESS=Washington County IDA Office 501 E High St. Potosi MO 63664 United States;X-APPLE-RADIUS=500;X-TITLE=501 E High St.:geo:-90.7805093,37.9317747
END:VEVENT
BEGIN:VEVENT
DTSTART;TZID=America/Chicago:20280106T153000
DTEND;TZID=America/Chicago:20280106T153000
DTSTAMP:20260423T115609
CREATED:20240205T150052Z
LAST-MODIFIED:20240205T150612Z
UID:10007724-1830785400-1830785400@washingtoncounty.guide
SUMMARY:PWSD #1 Water Board Meeting
DESCRIPTION:All meeting dates and times are subject to change. Contact organizer for more info.
URL:https://washingtoncounty.guide/event/pwsd-1-water-board-meeting/2028-01-06/
LOCATION:Washington County IDA Office\, 501 E High St.\, Potosi\, MO\, 63664\, United States
CATEGORIES:Community Development
GEO:37.9317747;-90.7805093
X-APPLE-STRUCTURED-LOCATION;VALUE=URI;X-ADDRESS=Washington County IDA Office 501 E High St. Potosi MO 63664 United States;X-APPLE-RADIUS=500;X-TITLE=501 E High St.:geo:-90.7805093,37.9317747
END:VEVENT
BEGIN:VEVENT
DTSTART;TZID=America/Chicago:20280201T083000
DTEND;TZID=America/Chicago:20280201T083000
DTSTAMP:20260423T115609
CREATED:20231212T151419Z
LAST-MODIFIED:20231212T151419Z
UID:10007384-1833006600-1833006600@washingtoncounty.guide
SUMMARY:Washington County IDA Board meeting
DESCRIPTION:Contact organizer for more information.
URL:https://washingtoncounty.guide/event/washington-county-ida-board-meeting/2028-02-01/
LOCATION:Washington County IDA Office\, 501 E High St.\, Potosi\, MO\, 63664\, United States
CATEGORIES:Adults,Informational,Networking
ORGANIZER;CN="Washington County IDA":MAILTO:contact@washingtoncomo.com
GEO:37.9317747;-90.7805093
X-APPLE-STRUCTURED-LOCATION;VALUE=URI;X-ADDRESS=Washington County IDA Office 501 E High St. Potosi MO 63664 United States;X-APPLE-RADIUS=500;X-TITLE=501 E High St.:geo:-90.7805093,37.9317747
END:VEVENT
BEGIN:VEVENT
DTSTART;TZID=America/Chicago:20280203T153000
DTEND;TZID=America/Chicago:20280203T153000
DTSTAMP:20260423T115609
CREATED:20240205T150052Z
LAST-MODIFIED:20240205T150612Z
UID:10007725-1833204600-1833204600@washingtoncounty.guide
SUMMARY:PWSD #1 Water Board Meeting
DESCRIPTION:All meeting dates and times are subject to change. Contact organizer for more info.
URL:https://washingtoncounty.guide/event/pwsd-1-water-board-meeting/2028-02-03/
LOCATION:Washington County IDA Office\, 501 E High St.\, Potosi\, MO\, 63664\, United States
CATEGORIES:Community Development
GEO:37.9317747;-90.7805093
X-APPLE-STRUCTURED-LOCATION;VALUE=URI;X-ADDRESS=Washington County IDA Office 501 E High St. Potosi MO 63664 United States;X-APPLE-RADIUS=500;X-TITLE=501 E High St.:geo:-90.7805093,37.9317747
END:VEVENT
BEGIN:VEVENT
DTSTART;TZID=America/Chicago:20280302T153000
DTEND;TZID=America/Chicago:20280302T153000
DTSTAMP:20260423T115609
CREATED:20240205T150052Z
LAST-MODIFIED:20240205T150612Z
UID:10007726-1835623800-1835623800@washingtoncounty.guide
SUMMARY:PWSD #1 Water Board Meeting
DESCRIPTION:All meeting dates and times are subject to change. Contact organizer for more info.
URL:https://washingtoncounty.guide/event/pwsd-1-water-board-meeting/2028-03-02/
LOCATION:Washington County IDA Office\, 501 E High St.\, Potosi\, MO\, 63664\, United States
CATEGORIES:Community Development
GEO:37.9317747;-90.7805093
X-APPLE-STRUCTURED-LOCATION;VALUE=URI;X-ADDRESS=Washington County IDA Office 501 E High St. Potosi MO 63664 United States;X-APPLE-RADIUS=500;X-TITLE=501 E High St.:geo:-90.7805093,37.9317747
END:VEVENT
BEGIN:VEVENT
DTSTART;TZID=America/Chicago:20280307T083000
DTEND;TZID=America/Chicago:20280307T083000
DTSTAMP:20260423T115609
CREATED:20231212T151419Z
LAST-MODIFIED:20231212T151419Z
UID:10007385-1836030600-1836030600@washingtoncounty.guide
SUMMARY:Washington County IDA Board meeting
DESCRIPTION:Contact organizer for more information.
URL:https://washingtoncounty.guide/event/washington-county-ida-board-meeting/2028-03-07/
LOCATION:Washington County IDA Office\, 501 E High St.\, Potosi\, MO\, 63664\, United States
CATEGORIES:Adults,Informational,Networking
ORGANIZER;CN="Washington County IDA":MAILTO:contact@washingtoncomo.com
GEO:37.9317747;-90.7805093
X-APPLE-STRUCTURED-LOCATION;VALUE=URI;X-ADDRESS=Washington County IDA Office 501 E High St. Potosi MO 63664 United States;X-APPLE-RADIUS=500;X-TITLE=501 E High St.:geo:-90.7805093,37.9317747
END:VEVENT
BEGIN:VEVENT
DTSTART;TZID=America/Chicago:20280404T083000
DTEND;TZID=America/Chicago:20280404T083000
DTSTAMP:20260423T115609
CREATED:20231212T151419Z
LAST-MODIFIED:20231212T151419Z
UID:10007386-1838449800-1838449800@washingtoncounty.guide
SUMMARY:Washington County IDA Board meeting
DESCRIPTION:Contact organizer for more information.
URL:https://washingtoncounty.guide/event/washington-county-ida-board-meeting/2028-04-04/
LOCATION:Washington County IDA Office\, 501 E High St.\, Potosi\, MO\, 63664\, United States
CATEGORIES:Adults,Informational,Networking
ORGANIZER;CN="Washington County IDA":MAILTO:contact@washingtoncomo.com
GEO:37.9317747;-90.7805093
X-APPLE-STRUCTURED-LOCATION;VALUE=URI;X-ADDRESS=Washington County IDA Office 501 E High St. Potosi MO 63664 United States;X-APPLE-RADIUS=500;X-TITLE=501 E High St.:geo:-90.7805093,37.9317747
END:VEVENT
BEGIN:VEVENT
DTSTART;TZID=America/Chicago:20280406T153000
DTEND;TZID=America/Chicago:20280406T153000
DTSTAMP:20260423T115609
CREATED:20240205T150052Z
LAST-MODIFIED:20240205T150612Z
UID:10007727-1838647800-1838647800@washingtoncounty.guide
SUMMARY:PWSD #1 Water Board Meeting
DESCRIPTION:All meeting dates and times are subject to change. Contact organizer for more info.
URL:https://washingtoncounty.guide/event/pwsd-1-water-board-meeting/2028-04-06/
LOCATION:Washington County IDA Office\, 501 E High St.\, Potosi\, MO\, 63664\, United States
CATEGORIES:Community Development
GEO:37.9317747;-90.7805093
X-APPLE-STRUCTURED-LOCATION;VALUE=URI;X-ADDRESS=Washington County IDA Office 501 E High St. Potosi MO 63664 United States;X-APPLE-RADIUS=500;X-TITLE=501 E High St.:geo:-90.7805093,37.9317747
END:VEVENT
BEGIN:VEVENT
DTSTART;TZID=America/Chicago:20280502T083000
DTEND;TZID=America/Chicago:20280502T083000
DTSTAMP:20260423T115609
CREATED:20231212T151419Z
LAST-MODIFIED:20231212T151419Z
UID:10007387-1840869000-1840869000@washingtoncounty.guide
SUMMARY:Washington County IDA Board meeting
DESCRIPTION:Contact organizer for more information.
URL:https://washingtoncounty.guide/event/washington-county-ida-board-meeting/2028-05-02/
LOCATION:Washington County IDA Office\, 501 E High St.\, Potosi\, MO\, 63664\, United States
CATEGORIES:Adults,Informational,Networking
ORGANIZER;CN="Washington County IDA":MAILTO:contact@washingtoncomo.com
GEO:37.9317747;-90.7805093
X-APPLE-STRUCTURED-LOCATION;VALUE=URI;X-ADDRESS=Washington County IDA Office 501 E High St. Potosi MO 63664 United States;X-APPLE-RADIUS=500;X-TITLE=501 E High St.:geo:-90.7805093,37.9317747
END:VEVENT
BEGIN:VEVENT
DTSTART;TZID=America/Chicago:20280504T153000
DTEND;TZID=America/Chicago:20280504T153000
DTSTAMP:20260423T115609
CREATED:20240205T150052Z
LAST-MODIFIED:20240205T150612Z
UID:10007728-1841067000-1841067000@washingtoncounty.guide
SUMMARY:PWSD #1 Water Board Meeting
DESCRIPTION:All meeting dates and times are subject to change. Contact organizer for more info.
URL:https://washingtoncounty.guide/event/pwsd-1-water-board-meeting/2028-05-04/
LOCATION:Washington County IDA Office\, 501 E High St.\, Potosi\, MO\, 63664\, United States
CATEGORIES:Community Development
GEO:37.9317747;-90.7805093
X-APPLE-STRUCTURED-LOCATION;VALUE=URI;X-ADDRESS=Washington County IDA Office 501 E High St. Potosi MO 63664 United States;X-APPLE-RADIUS=500;X-TITLE=501 E High St.:geo:-90.7805093,37.9317747
END:VEVENT
END:VCALENDAR